BEGIN:VCALENDAR
VERSION:2.0
PRODID:-//KHG Bayreuth - ECPv6.15.3//NONSGML v1.0//EN
CALSCALE:GREGORIAN
METHOD:PUBLISH
X-WR-CALNAME:KHG Bayreuth
X-ORIGINAL-URL:https://www.khg-in-bayreuth.de
X-WR-CALDESC:Veranstaltungen für KHG Bayreuth
REFRESH-INTERVAL;VALUE=DURATION:PT1H
X-Robots-Tag:noindex
X-PUBLISHED-TTL:PT1H
BEGIN:VTIMEZONE
TZID:Europe/Berlin
BEGIN:DAYLIGHT
TZOFFSETFROM:+0100
TZOFFSETTO:+0200
TZNAME:CEST
DTSTART:20230326T010000
END:DAYLIGHT
BEGIN:STANDARD
TZOFFSETFROM:+0200
TZOFFSETTO:+0100
TZNAME:CET
DTSTART:20231029T010000
END:STANDARD
END:VTIMEZONE
BEGIN:VEVENT
DTSTART;VALUE=DATE:20230113
DTEND;VALUE=DATE:20230116
DTSTAMP:20260423T084916
CREATED:20220809T174555Z
LAST-MODIFIED:20221213T020737Z
UID:10004885-1673568000-1673827199@www.khg-in-bayreuth.de
SUMMARY:Ökumenisches (R)Auszeit-Wochenende // Ecumenical (R)Time Out Weekend
DESCRIPTION:– English version below – \nEin Wochenende für Entspannung und Gemeinschaft in der Fränkischen Schweiz. Wir übernachten in einem Selbstversorgerhaus\, wo wir gemeinsam kochen\, Spiele spielen\, wandern\, Gottesdienst feiern\, Musik machen\, Feuer anzünden und vieles mehr. \nWir starten voraussichtlich am Freitagnachmittag und kommen am Sonntagmittag zurück. Genaueres können wir noch in der Gruppe abstimmen. Da es nach Hochstahl leider keine sinnvolle ÖPNV-Verbindung am Wochenende gibt\, fahren wir mit Privatautos. Bitte gebt bei der Anmeldung an\, ob Ihr ein Auto zur Verfügung habt und fahren könnt! \nBitte mitbringen: Schlafsack\, Bettlaken\, Kissenbezug\, Handtuch\, Musikinstrumente\, Spiele\, Liederbücher … \nBitte meldet Euch bis zum 8. Januar per E-mail an. Unkostenbeitrag: 15\,- € \n– English version – \nA weekend for relaxation and fellowship in Franconian Switzerland. We stay overnight in a self-catering house\, where we cook together\, play games\, hike\, worship\, make music\, light a fire and much more. \nWe will probably start on Friday afternoon and return on Sunday afternoon. We can still agree on the details in the group. As there is no sensible public transport connection to Hochstahl at the weekend\, we will travel by private car. Please let us know when you register if you have a car available and can drive! \nPlease bring along: Sleeping bag\, sheets\, pillowcase\, towel\, musical instruments\, games\, song books … \nPlease register by 8 January. Contribution towards expenses: € 15
URL:https://www.khg-in-bayreuth.de/event/oekumenisches-rauszeit-wochenende/
LOCATION:Emil-Warburg-Weg 17\, Bayreuth\, 95447\, Deutschland
END:VEVENT
BEGIN:VEVENT
DTSTART;TZID=Europe/Berlin:20230113T140000
DTEND;TZID=Europe/Berlin:20230113T153000
DTSTAMP:20260423T084916
CREATED:20221025T152106Z
LAST-MODIFIED:20221025T152106Z
UID:10005184-1673618400-1673623800@www.khg-in-bayreuth.de
SUMMARY:Deutschkurs // German language class
DESCRIPTION:Studierende der Universität Bayreuth organisieren ehrenamtlich Deutsch-Sprachkurse für Geflüchtete und internationale Studierende. Kommt einfach vorbei! \nStudents of Bayreuth University organise volunteer German language courses for refugees and international Students. Come along!
URL:https://www.khg-in-bayreuth.de/event/deutschkurs-german-language-class-3/2023-01-13/
LOCATION:KHG Bayreuth\, Emil-Warburg-Weg 17\, KHG Bayreuth\, 95447\, Deutschland
END:VEVENT
END:VCALENDAR