BEGIN:VCALENDAR
VERSION:2.0
PRODID:-//KHG Bayreuth - ECPv6.15.3//NONSGML v1.0//EN
CALSCALE:GREGORIAN
METHOD:PUBLISH
X-WR-CALNAME:KHG Bayreuth
X-ORIGINAL-URL:https://www.khg-in-bayreuth.de
X-WR-CALDESC:Veranstaltungen für KHG Bayreuth
REFRESH-INTERVAL;VALUE=DURATION:PT1H
X-Robots-Tag:noindex
X-PUBLISHED-TTL:PT1H
BEGIN:VTIMEZONE
TZID:Europe/Berlin
BEGIN:DAYLIGHT
TZOFFSETFROM:+0100
TZOFFSETTO:+0200
TZNAME:CEST
DTSTART:20230326T010000
END:DAYLIGHT
BEGIN:STANDARD
TZOFFSETFROM:+0200
TZOFFSETTO:+0100
TZNAME:CET
DTSTART:20231029T010000
END:STANDARD
END:VTIMEZONE
BEGIN:VEVENT
DTSTART;TZID=Europe/Berlin:20230117T200000
DTEND;TZID=Europe/Berlin:20230117T220000
DTSTAMP:20260423T070543
CREATED:20220809T174646Z
LAST-MODIFIED:20221116T135417Z
UID:10004886-1673985600-1673992800@www.khg-in-bayreuth.de
SUMMARY:KHG-Barabend: Fränkischer Kulturabend // Franconian cultural evening
DESCRIPTION:Von Bierfranken bis Weinfranken\, von den versteckten Dörfchen des Frankenwalds bis zur alten Eisenbahn- und Industriestadt Nürnberg\, von den kargen Karstlandschaften\nder Fränkischen Schweiz bis zu den sanften Flusstälern des Untermains: Franken ist ein vielfältiges und eigenwilliges Fleckchen Erde mit besonderen Menschen\, einer\nspannenden Kulturgeschichte\, originellen Dialekten und natürlich vielen kulinarischen Spezialitäten. Wir lernen an diesem Abend spielerisch die Besonderheiten unserer Region kennen und probieren einige der festen und flüssigen „Grundnahrungsmittel“ der Franken! \nFrom beer Franconia to wine Franconia\, from the hidden villages of the Franconian Forest to the old railroad and industrial city of Nuremberg\, from the barren karst landscapes of Franconian Switzerland to the gentle river valleys of the Lower Main. Franconian Switzerland to the gentle river valleys of the Lower Main: Franconia is a diverse and idiosyncratic corner of the world with special people\, an exciting cultural history\, original Franconia is a diverse and idiosyncratic place on earth with special people\, an exciting cultural history\, original dialects and\, of course\, many culinary specialties. On this evening\, we will playfully get to know the special features of our region and taste some of the solid and liquid “staple foods” of Franconia!
URL:https://www.khg-in-bayreuth.de/event/khg-barabend-fraenkischer-kulturabend/
LOCATION:KHG Bayreuth\, Emil-Warburg-Weg 17\, Bayreuth\, 95447\, Deutschland
END:VEVENT
END:VCALENDAR