BEGIN:VCALENDAR
VERSION:2.0
PRODID:-//KHG Bayreuth - ECPv6.15.3//NONSGML v1.0//EN
CALSCALE:GREGORIAN
METHOD:PUBLISH
X-ORIGINAL-URL:https://www.khg-in-bayreuth.de
X-WR-CALDESC:Veranstaltungen für KHG Bayreuth
REFRESH-INTERVAL;VALUE=DURATION:PT1H
X-Robots-Tag:noindex
X-PUBLISHED-TTL:PT1H
BEGIN:VTIMEZONE
TZID:Europe/Berlin
BEGIN:DAYLIGHT
TZOFFSETFROM:+0100
TZOFFSETTO:+0200
TZNAME:CEST
DTSTART:20230326T010000
END:DAYLIGHT
BEGIN:STANDARD
TZOFFSETFROM:+0200
TZOFFSETTO:+0100
TZNAME:CET
DTSTART:20231029T010000
END:STANDARD
END:VTIMEZONE
BEGIN:VEVENT
DTSTART;VALUE=DATE:20230120
DTEND;VALUE=DATE:20230123
DTSTAMP:20260423T070814
CREATED:20221010T072704Z
LAST-MODIFIED:20221010T130840Z
UID:10004903-1674172800-1674431999@www.khg-in-bayreuth.de
SUMMARY:Wintertreffen in Lüneburg // Winter Meeting in Lüneburg
DESCRIPTION:Bundesweites Treffen der Katholischen Hochschulgemeinden: https://www.fhok.de/event/wintertreffen-2023/ \nNationwide meeting of the Catholic university communities.
URL:https://www.khg-in-bayreuth.de/event/fhok-wintertreffen-in-lueneburg-fhok-winter-meeting-in-lueneburg/
END:VEVENT
BEGIN:VEVENT
DTSTART;TZID=Europe/Berlin:20230120T100000
DTEND;TZID=Europe/Berlin:20230120T113000
DTSTAMP:20260423T070814
CREATED:20230113T204200Z
LAST-MODIFIED:20230113T212110Z
UID:10005375-1674208800-1674214200@www.khg-in-bayreuth.de
SUMMARY:Deutschkurs // German language class
DESCRIPTION:Studierende der Universität Bayreuth organisieren ehrenamtlich Deutsch-Sprachkurse für Geflüchtete und internationale Studierende. Kommt einfach vorbei! \nStudents of Bayreuth University organise volunteer German language courses for refugees and international Students. Come along!
URL:https://www.khg-in-bayreuth.de/event/deutschkurs-german-language-class-8/2023-01-20/
LOCATION:KHG Bayreuth\, Emil-Warburg-Weg 17\, KHG Bayreuth\, 95447\, Deutschland
END:VEVENT
BEGIN:VEVENT
DTSTART;TZID=Europe/Berlin:20230120T140000
DTEND;TZID=Europe/Berlin:20230120T153000
DTSTAMP:20260423T070814
CREATED:20221025T152106Z
LAST-MODIFIED:20221025T152106Z
UID:10005185-1674223200-1674228600@www.khg-in-bayreuth.de
SUMMARY:Deutschkurs // German language class
DESCRIPTION:Studierende der Universität Bayreuth organisieren ehrenamtlich Deutsch-Sprachkurse für Geflüchtete und internationale Studierende. Kommt einfach vorbei! \nStudents of Bayreuth University organise volunteer German language courses for refugees and international Students. Come along!
URL:https://www.khg-in-bayreuth.de/event/deutschkurs-german-language-class-3/2023-01-20/
LOCATION:KHG Bayreuth\, Emil-Warburg-Weg 17\, KHG Bayreuth\, 95447\, Deutschland
END:VEVENT
BEGIN:VEVENT
DTSTART;TZID=Europe/Berlin:20230120T180000
DTEND;TZID=Europe/Berlin:20230120T200000
DTSTAMP:20260423T070814
CREATED:20230113T222622Z
LAST-MODIFIED:20230113T222622Z
UID:10005380-1674237600-1674244800@www.khg-in-bayreuth.de
SUMMARY:China-Stammtisch // German-Chinese Stammtisch
DESCRIPTION:Herzliche Einladung zur Feier des chinesischen “Silvesters”! Wir haben schon durch den „chinesischen Kunstabend“ und den „Gedankensalon“ auf lustige und nachdenkliche Weise die Faszination und die Vielfalt der chinesischen Kultur kennengelernt. Dieses Mal werden wir uns den „Geschmack“ einer Kultur auf der Zunge zergehen lassen.😋 \nWie beim traditionellen chinesischen Silvester werden wir zusammen Jiaozi (eine Art Tortellini\, sowohl vegetarisch als auch traditionell mit Fleisch) kochen. Eine vorherige Anmeldung ist nötig\, eine Anmeldegebühr von 4 Euro wird fällig. Unsere große deutsch-chinesische Stammtisch-Familie warten auf euer Kommen! \n\nCordial invitation to the celebration of the Chinese “New Year’s Eve”! We have already learned about the fascination and diversity of Chinese culture in a fun and thoughtful way through the “Chinese Art Evening” and the “Thought Salon”. This time we will have a “taste” of a culture on our tongue. \nAs with traditional Chinese New Year’s Eve\, we will cook jiaozi (a type of tortellini\, both vegetarian and traditional with meat) together. Prior registration is required\, and a registration fee of 4 euros will be charged. Our big German-Chinese Stammtisch family are waiting for your coming!
URL:https://www.khg-in-bayreuth.de/event/china-stammtisch-german-chinese-stammtisch/
LOCATION:KHG Bayreuth\, Emil-Warburg-Weg 17\, KHG Bayreuth\, 95447\, Deutschland
END:VEVENT
END:VCALENDAR