BEGIN:VCALENDAR
VERSION:2.0
PRODID:-//KHG Bayreuth - ECPv6.15.3//NONSGML v1.0//EN
CALSCALE:GREGORIAN
METHOD:PUBLISH
X-ORIGINAL-URL:https://www.khg-in-bayreuth.de
X-WR-CALDESC:Veranstaltungen für KHG Bayreuth
REFRESH-INTERVAL;VALUE=DURATION:PT1H
X-Robots-Tag:noindex
X-PUBLISHED-TTL:PT1H
BEGIN:VTIMEZONE
TZID:Europe/Berlin
BEGIN:DAYLIGHT
TZOFFSETFROM:+0100
TZOFFSETTO:+0200
TZNAME:CEST
DTSTART:20230326T010000
END:DAYLIGHT
BEGIN:STANDARD
TZOFFSETFROM:+0200
TZOFFSETTO:+0100
TZNAME:CET
DTSTART:20231029T010000
END:STANDARD
END:VTIMEZONE
BEGIN:VEVENT
DTSTART;TZID=Europe/Berlin:20230131T200000
DTEND;TZID=Europe/Berlin:20230131T220000
DTSTAMP:20260423T051517
CREATED:20220809T174838Z
LAST-MODIFIED:20230129T165844Z
UID:10004888-1675195200-1675202400@www.khg-in-bayreuth.de
SUMMARY:KHG-Barabend: Spannende Experimente mit alltäglichen Gegenständen aus dem Haushalt // Exciting experiments with everyday household objects
DESCRIPTION:Chemische Experimente zum Mitmachen – ein Abend zum Ausprobieren\, Staunen\, Lernen und Spaß haben! \nReferentin: Prof. Dr. Birgit Weber\, Lehrstuhl Anorganische Chemie IV\, Universität Bayreuth \n\nDIY Chemical experiments – and evening to try things out\, be flabbergasted\, learn and have fun! \nSpeaker: Prof. Dr. Birgit Weber\, Chair of Inorganic Chemistry IV\, University of Bayreuth
URL:https://www.khg-in-bayreuth.de/event/khg-barabend-feuer-und-flamme-chemische-experimente/
LOCATION:KHG Bayreuth\, Emil-Warburg-Weg 17\, Bayreuth\, 95447\, Deutschland
END:VEVENT
END:VCALENDAR