BEGIN:VCALENDAR
VERSION:2.0
PRODID:-//KHG Bayreuth - ECPv6.15.3//NONSGML v1.0//EN
CALSCALE:GREGORIAN
METHOD:PUBLISH
X-WR-CALNAME:KHG Bayreuth
X-ORIGINAL-URL:https://www.khg-in-bayreuth.de
X-WR-CALDESC:Veranstaltungen für KHG Bayreuth
REFRESH-INTERVAL;VALUE=DURATION:PT1H
X-Robots-Tag:noindex
X-PUBLISHED-TTL:PT1H
BEGIN:VTIMEZONE
TZID:Europe/Berlin
BEGIN:DAYLIGHT
TZOFFSETFROM:+0100
TZOFFSETTO:+0200
TZNAME:CEST
DTSTART:20230326T010000
END:DAYLIGHT
BEGIN:STANDARD
TZOFFSETFROM:+0200
TZOFFSETTO:+0100
TZNAME:CET
DTSTART:20231029T010000
END:STANDARD
END:VTIMEZONE
BEGIN:VEVENT
DTSTART;TZID=Europe/Berlin:20230213T200000
DTEND;TZID=Europe/Berlin:20230213T220000
DTSTAMP:20260423T051408
CREATED:20230129T190134Z
LAST-MODIFIED:20230129T190556Z
UID:10005454-1676318400-1676325600@www.khg-in-bayreuth.de
SUMMARY:"Les Misérables." Theateraufführung // Theatre performance
DESCRIPTION:Der krönenden Abschluss des KHG-Semesters: Die Aufführungen unserer “Schwarzen Schafe”. Das ganze Semester über haben sie gewerkelt und geprobt\, endlich kommt “Les Misérables” auf die Bühne! Sichert Euch schnell die Karten! \nKartenverkauf: Montag – Freitag 11.00 – 14.00 Uhr vor der Mensa \nVorstellungen: \nSamstag\, 11. Februar\, 20.00 Uhr\, KHG (Premiere) \nMontag\, 13. Februar\, 20.00 Uhr\, KHG \nMittwoch\, 15. Februar\, 20.00 Uhr\, KHG \nFreitag\, 17. Februar\, 20.00 Uhr\, KHG \nSonntag\, 19. Februar\, 20.00 Uhr\, Glashaus (Derniere – Kartenverkauf über Glashaus) \n\nThe crowning finale of the KHG semester: the performances of our “Black Sheep”. They have been working and rehearsing all semester\, and finally “Les Misérables” is coming to the stage! Get your tickets fast! \nTicket sales: Monday – Friday 11 a.m. – 2 p.m. in front of the Mensa. \nPerformances: \nSaturday\, 11 February\, 20.00\, KHG (premiere) \nMonday\, 13 February\, 20.00\, KHG \nWednesday\, 15 February\, 20.00\, KHG \nFriday\, 17 February\, 20.00\, KHG \nSunday\, 19 February\, 20.00\, Glashaus (derniere – tickets on sale through Glashaus)
URL:https://www.khg-in-bayreuth.de/event/les-miserables-theaterauffuehrung-theatre-performance/2023-02-13/
LOCATION:KHG Bayreuth\, Emil-Warburg-Weg 17\, KHG Bayreuth\, 95447\, Deutschland
END:VEVENT
END:VCALENDAR