BEGIN:VCALENDAR
VERSION:2.0
PRODID:-//KHG Bayreuth - ECPv6.15.3//NONSGML v1.0//EN
CALSCALE:GREGORIAN
METHOD:PUBLISH
X-WR-CALNAME:KHG Bayreuth
X-ORIGINAL-URL:https://www.khg-in-bayreuth.de
X-WR-CALDESC:Veranstaltungen für KHG Bayreuth
REFRESH-INTERVAL;VALUE=DURATION:PT1H
X-Robots-Tag:noindex
X-PUBLISHED-TTL:PT1H
BEGIN:VTIMEZONE
TZID:Europe/Berlin
BEGIN:DAYLIGHT
TZOFFSETFROM:+0100
TZOFFSETTO:+0200
TZNAME:CEST
DTSTART:20230326T010000
END:DAYLIGHT
BEGIN:STANDARD
TZOFFSETFROM:+0200
TZOFFSETTO:+0100
TZNAME:CET
DTSTART:20231029T010000
END:STANDARD
END:VTIMEZONE
BEGIN:VEVENT
DTSTART;TZID=Europe/Berlin:20230215T150000
DTEND;TZID=Europe/Berlin:20230215T163000
DTSTAMP:20260423T053232
CREATED:20221025T151859Z
LAST-MODIFIED:20221025T151859Z
UID:10005128-1676473200-1676478600@www.khg-in-bayreuth.de
SUMMARY:Sprachcafé Deutsch // German language café
DESCRIPTION:Studierende der Universität Bayreuth organisieren ehrenamtlich Deutsch-Sprachkurse für Geflüchtete und internationale Studierende. Am Mittwoch gib es statt regulärem Unterricht ein Sprachcafé\, um Konversation zu üben. Kommt einfach vorbei! \nStudents of Bayreuth University organise volunteer German language courses for refugees and international Students. On Wednesday\, instead of regular classes there’ll be a German language café to practice conversation. Come along!
URL:https://www.khg-in-bayreuth.de/event/sprachcafe-deutsch-german-language-cafe/2023-02-15/
LOCATION:KHG Bayreuth\, Emil-Warburg-Weg 17\, KHG Bayreuth\, 95447\, Deutschland
END:VEVENT
BEGIN:VEVENT
DTSTART;TZID=Europe/Berlin:20230215T190000
DTEND;TZID=Europe/Berlin:20230215T210000
DTSTAMP:20260423T053232
CREATED:20221213T000744Z
LAST-MODIFIED:20230228T023400Z
UID:10005250-1676487600-1676494800@www.khg-in-bayreuth.de
SUMMARY:KHG-Café: Salsa & Bachata // KHG Café: Salsa & Bachata
DESCRIPTION:Free Salsa and Bachata class: Beginners 19.00 to 20.00 hrs\, Advanced 20.00 to 21.00 hrs. Welcome! \nKostenlose Tanzstunde: Es wird Salsa und Bachata getanzt\, für Anfänger von 19.00 bis 20.00 Uhr\, von 20.00 bis 21.00 Uhr für Fortgeschrittene. Herzlich willkommen!
URL:https://www.khg-in-bayreuth.de/event/khg-cafe-salsa-mehr-khg-cafe-salsa-more-2/2023-02-15/
LOCATION:KHG Bayreuth\, Emil-Warburg-Weg 17\, KHG Bayreuth\, 95447\, Deutschland
END:VEVENT
BEGIN:VEVENT
DTSTART;TZID=Europe/Berlin:20230215T194500
DTEND;TZID=Europe/Berlin:20230215T213000
DTSTAMP:20260423T053232
CREATED:20230113T200329Z
LAST-MODIFIED:20230113T200329Z
UID:10005323-1676490300-1676496600@www.khg-in-bayreuth.de
SUMMARY:Gospelchor // Gospel Choir
DESCRIPTION:Unser “Gospelchor Bayreuth”\, der ökumenische Gospelchor von KHG und ESG\, probt jeden Mittwoch in der KHG. Neue Sänger*innen sind jederzeit herzlich willkommen! \n\nOur “Gospelchor Bayreuth”\, the ecumenical gospel choir of KHG and ESG\, rehearses every Wednesday in the KHG. New singers are always welcome!
URL:https://www.khg-in-bayreuth.de/event/gospelchor-gospel-choir-4/2023-02-15/
LOCATION:KHG Bayreuth\, Emil-Warburg-Weg 17\, KHG Bayreuth\, 95447\, Deutschland
END:VEVENT
BEGIN:VEVENT
DTSTART;TZID=Europe/Berlin:20230215T200000
DTEND;TZID=Europe/Berlin:20230215T220000
DTSTAMP:20260423T053232
CREATED:20230129T190134Z
LAST-MODIFIED:20230129T190556Z
UID:10005455-1676491200-1676498400@www.khg-in-bayreuth.de
SUMMARY:"Les Misérables." Theateraufführung // Theatre performance
DESCRIPTION:Der krönenden Abschluss des KHG-Semesters: Die Aufführungen unserer “Schwarzen Schafe”. Das ganze Semester über haben sie gewerkelt und geprobt\, endlich kommt “Les Misérables” auf die Bühne! Sichert Euch schnell die Karten! \nKartenverkauf: Montag – Freitag 11.00 – 14.00 Uhr vor der Mensa \nVorstellungen: \nSamstag\, 11. Februar\, 20.00 Uhr\, KHG (Premiere) \nMontag\, 13. Februar\, 20.00 Uhr\, KHG \nMittwoch\, 15. Februar\, 20.00 Uhr\, KHG \nFreitag\, 17. Februar\, 20.00 Uhr\, KHG \nSonntag\, 19. Februar\, 20.00 Uhr\, Glashaus (Derniere – Kartenverkauf über Glashaus) \n\nThe crowning finale of the KHG semester: the performances of our “Black Sheep”. They have been working and rehearsing all semester\, and finally “Les Misérables” is coming to the stage! Get your tickets fast! \nTicket sales: Monday – Friday 11 a.m. – 2 p.m. in front of the Mensa. \nPerformances: \nSaturday\, 11 February\, 20.00\, KHG (premiere) \nMonday\, 13 February\, 20.00\, KHG \nWednesday\, 15 February\, 20.00\, KHG \nFriday\, 17 February\, 20.00\, KHG \nSunday\, 19 February\, 20.00\, Glashaus (derniere – tickets on sale through Glashaus)
URL:https://www.khg-in-bayreuth.de/event/les-miserables-theaterauffuehrung-theatre-performance/2023-02-15/
LOCATION:KHG Bayreuth\, Emil-Warburg-Weg 17\, KHG Bayreuth\, 95447\, Deutschland
END:VEVENT
END:VCALENDAR