BEGIN:VCALENDAR
VERSION:2.0
PRODID:-//KHG Bayreuth - ECPv6.15.3//NONSGML v1.0//EN
CALSCALE:GREGORIAN
METHOD:PUBLISH
X-ORIGINAL-URL:https://www.khg-in-bayreuth.de
X-WR-CALDESC:Veranstaltungen für KHG Bayreuth
REFRESH-INTERVAL;VALUE=DURATION:PT1H
X-Robots-Tag:noindex
X-PUBLISHED-TTL:PT1H
BEGIN:VTIMEZONE
TZID:Europe/Berlin
BEGIN:DAYLIGHT
TZOFFSETFROM:+0100
TZOFFSETTO:+0200
TZNAME:CEST
DTSTART:20230326T010000
END:DAYLIGHT
BEGIN:STANDARD
TZOFFSETFROM:+0200
TZOFFSETTO:+0100
TZNAME:CET
DTSTART:20231029T010000
END:STANDARD
END:VTIMEZONE
BEGIN:VEVENT
DTSTART;TZID=Europe/Berlin:20230301T150000
DTEND;TZID=Europe/Berlin:20230301T163000
DTSTAMP:20260423T033024
CREATED:20221025T151859Z
LAST-MODIFIED:20221025T151859Z
UID:10005130-1677682800-1677688200@www.khg-in-bayreuth.de
SUMMARY:Sprachcafé Deutsch // German language café
DESCRIPTION:Studierende der Universität Bayreuth organisieren ehrenamtlich Deutsch-Sprachkurse für Geflüchtete und internationale Studierende. Am Mittwoch gib es statt regulärem Unterricht ein Sprachcafé\, um Konversation zu üben. Kommt einfach vorbei! \nStudents of Bayreuth University organise volunteer German language courses for refugees and international Students. On Wednesday\, instead of regular classes there’ll be a German language café to practice conversation. Come along!
URL:https://www.khg-in-bayreuth.de/event/sprachcafe-deutsch-german-language-cafe/2023-03-01/
LOCATION:KHG Bayreuth\, Emil-Warburg-Weg 17\, KHG Bayreuth\, 95447\, Deutschland
END:VEVENT
BEGIN:VEVENT
DTSTART;TZID=Europe/Berlin:20230301T190000
DTEND;TZID=Europe/Berlin:20230301T210000
DTSTAMP:20260423T033024
CREATED:20221213T000744Z
LAST-MODIFIED:20230228T023400Z
UID:10005755-1677697200-1677704400@www.khg-in-bayreuth.de
SUMMARY:KHG-Café: Salsa & Bachata // KHG Café: Salsa & Bachata
DESCRIPTION:Free Salsa and Bachata class: Beginners 19.00 to 20.00 hrs\, Advanced 20.00 to 21.00 hrs. Welcome! \nKostenlose Tanzstunde: Es wird Salsa und Bachata getanzt\, für Anfänger von 19.00 bis 20.00 Uhr\, von 20.00 bis 21.00 Uhr für Fortgeschrittene. Herzlich willkommen!
URL:https://www.khg-in-bayreuth.de/event/khg-cafe-salsa-mehr-khg-cafe-salsa-more-2/2023-03-01/
LOCATION:KHG Bayreuth\, Emil-Warburg-Weg 17\, KHG Bayreuth\, 95447\, Deutschland
END:VEVENT
END:VCALENDAR