BEGIN:VCALENDAR
VERSION:2.0
PRODID:-//KHG Bayreuth - ECPv6.15.3//NONSGML v1.0//EN
CALSCALE:GREGORIAN
METHOD:PUBLISH
X-WR-CALNAME:KHG Bayreuth
X-ORIGINAL-URL:https://www.khg-in-bayreuth.de
X-WR-CALDESC:Veranstaltungen für KHG Bayreuth
REFRESH-INTERVAL;VALUE=DURATION:PT1H
X-Robots-Tag:noindex
X-PUBLISHED-TTL:PT1H
BEGIN:VTIMEZONE
TZID:Europe/Berlin
BEGIN:DAYLIGHT
TZOFFSETFROM:+0100
TZOFFSETTO:+0200
TZNAME:CEST
DTSTART:20230326T010000
END:DAYLIGHT
BEGIN:STANDARD
TZOFFSETFROM:+0200
TZOFFSETTO:+0100
TZNAME:CET
DTSTART:20231029T010000
END:STANDARD
END:VTIMEZONE
BEGIN:VEVENT
DTSTART;TZID=Europe/Berlin:20230412T150000
DTEND;TZID=Europe/Berlin:20230412T163000
DTSTAMP:20260423T014223
CREATED:20221025T151859Z
LAST-MODIFIED:20221025T151859Z
UID:10005136-1681311600-1681317000@www.khg-in-bayreuth.de
SUMMARY:Sprachcafé Deutsch // German language café
DESCRIPTION:Studierende der Universität Bayreuth organisieren ehrenamtlich Deutsch-Sprachkurse für Geflüchtete und internationale Studierende. Am Mittwoch gib es statt regulärem Unterricht ein Sprachcafé\, um Konversation zu üben. Kommt einfach vorbei! \nStudents of Bayreuth University organise volunteer German language courses for refugees and international Students. On Wednesday\, instead of regular classes there’ll be a German language café to practice conversation. Come along!
URL:https://www.khg-in-bayreuth.de/event/sprachcafe-deutsch-german-language-cafe/2023-04-12/
LOCATION:KHG Bayreuth\, Emil-Warburg-Weg 17\, KHG Bayreuth\, 95447\, Deutschland
END:VEVENT
BEGIN:VEVENT
DTSTART;TZID=Europe/Berlin:20230412T194500
DTEND;TZID=Europe/Berlin:20230412T213000
DTSTAMP:20260423T014223
CREATED:20230308T111641Z
LAST-MODIFIED:20230308T111704Z
UID:10005949-1681328700-1681335000@www.khg-in-bayreuth.de
SUMMARY:Gospelchor // Gospel Choir
DESCRIPTION:Unser “Gospelchor Bayreuth”\, der ökumenische Gospelchor von KHG und ESG\, probt jeden Mittwoch in der KHG. Neue Sänger*innen sind jederzeit herzlich willkommen! \nOur “Gospelchor Bayreuth”\, the ecumenical gospel choir of KHG and ESG\, rehearses every Wednesday in the KHG. New singers are always welcome!
URL:https://www.khg-in-bayreuth.de/event/gospelchor-gospel-choir-5/2023-04-12/
LOCATION:KHG Bayreuth\, Emil-Warburg-Weg 17\, KHG Bayreuth\, 95447\, Deutschland
END:VEVENT
END:VCALENDAR