BEGIN:VCALENDAR
VERSION:2.0
PRODID:-//KHG Bayreuth - ECPv6.15.3//NONSGML v1.0//EN
CALSCALE:GREGORIAN
METHOD:PUBLISH
X-WR-CALNAME:KHG Bayreuth
X-ORIGINAL-URL:https://www.khg-in-bayreuth.de
X-WR-CALDESC:Veranstaltungen für KHG Bayreuth
REFRESH-INTERVAL;VALUE=DURATION:PT1H
X-Robots-Tag:noindex
X-PUBLISHED-TTL:PT1H
BEGIN:VTIMEZONE
TZID:Europe/Berlin
BEGIN:DAYLIGHT
TZOFFSETFROM:+0100
TZOFFSETTO:+0200
TZNAME:CEST
DTSTART:20230326T010000
END:DAYLIGHT
BEGIN:STANDARD
TZOFFSETFROM:+0200
TZOFFSETTO:+0100
TZNAME:CET
DTSTART:20231029T010000
END:STANDARD
END:VTIMEZONE
BEGIN:VEVENT
DTSTART;TZID=Europe/Berlin:20230417T070000
DTEND;TZID=Europe/Berlin:20230417T073000
DTSTAMP:20260423T014025
CREATED:20230405T110020Z
LAST-MODIFIED:20230419T113531Z
UID:10006008-1681714800-1681716600@www.khg-in-bayreuth.de
SUMMARY:Frühschicht mit Frühstück // Morning prayer
DESCRIPTION:Alle zwei Wochen treffen wir uns am Montag zu einem meditativen Tageseinstieg in der Kapelle. Anschließend frühstücken wir gemeinsam. Herzliche Einladung! \nEvery two weeks on Monday we meet for a meditative start to the day in the chapel. Afterwards we have breakfast together. Cordial invitation!
URL:https://www.khg-in-bayreuth.de/event/fruehstueck-morning-prayer/2023-04-17/
LOCATION:KHG Bayreuth\, Emil-Warburg-Weg 17\, KHG Bayreuth\, 95447\, Deutschland
END:VEVENT
BEGIN:VEVENT
DTSTART;TZID=Europe/Berlin:20230417T180000
DTEND;TZID=Europe/Berlin:20230417T210000
DTSTAMP:20260423T014026
CREATED:20230308T111112Z
LAST-MODIFIED:20230308T111352Z
UID:10005934-1681754400-1681765200@www.khg-in-bayreuth.de
SUMMARY:Theatergruppe “Die Schwarzen Schafe” // Theatre group “The Black Sheep”
DESCRIPTION:Die legendären “Schwarzen Schafe” treffen sich jeden Montag in der KHG. Neueinsteiger*innen sind besonders am Anfang des Semesters herzlich willkommen!\nDenn: Zu Beginn des Semesters suchen alle gemeinsam ein Stück aus\, danach wird regelmäßig geprobt. Am Semesterende wird die KHG dann zur Bühne für die Aufführung des Stücks. \nOur legendary “Black Sheep” meet every Monday in the KHG. Newcomers are especially welcome at the beginning of the semester!\nBecause: At the beginning of the semester\, everyone chooses a play together and then rehearses regularly. At the end of the semester\, the KHG becomes the stage for the performance of the play.
URL:https://www.khg-in-bayreuth.de/event/theatergruppe-die-schwarzen-schafe-theatre-group-the-black-sheep-2/2023-04-17/
LOCATION:KHG Bayreuth\, Emil-Warburg-Weg 17\, KHG Bayreuth\, 95447\, Deutschland
END:VEVENT
END:VCALENDAR