BEGIN:VCALENDAR
VERSION:2.0
PRODID:-//KHG Bayreuth - ECPv6.15.3//NONSGML v1.0//EN
CALSCALE:GREGORIAN
METHOD:PUBLISH
X-WR-CALNAME:KHG Bayreuth
X-ORIGINAL-URL:https://www.khg-in-bayreuth.de
X-WR-CALDESC:Veranstaltungen für KHG Bayreuth
REFRESH-INTERVAL;VALUE=DURATION:PT1H
X-Robots-Tag:noindex
X-PUBLISHED-TTL:PT1H
BEGIN:VTIMEZONE
TZID:Europe/Berlin
BEGIN:DAYLIGHT
TZOFFSETFROM:+0100
TZOFFSETTO:+0200
TZNAME:CEST
DTSTART:20230326T010000
END:DAYLIGHT
BEGIN:STANDARD
TZOFFSETFROM:+0200
TZOFFSETTO:+0100
TZNAME:CET
DTSTART:20231029T010000
END:STANDARD
END:VTIMEZONE
BEGIN:VEVENT
DTSTART;TZID=Europe/Berlin:20230420T100000
DTEND;TZID=Europe/Berlin:20230420T113000
DTSTAMP:20260423T014153
CREATED:20221025T151008Z
LAST-MODIFIED:20221025T151008Z
UID:10005075-1681984800-1681990200@www.khg-in-bayreuth.de
SUMMARY:Deutschkurs // German language class
DESCRIPTION:Studierende der Universität Bayreuth organisieren ehrenamtlich Deutsch-Sprachkurse für Geflüchtete und internationale Studierende. Kommt einfach vorbei! \nStudents of Bayreuth University organise volunteer German language courses for refugees and international Students. Come along!
URL:https://www.khg-in-bayreuth.de/event/deutschkurs-german-language-class-2/2023-04-20/
LOCATION:KHG Bayreuth\, Emil-Warburg-Weg 17\, KHG Bayreuth\, 95447\, Deutschland
END:VEVENT
BEGIN:VEVENT
DTSTART;TZID=Europe/Berlin:20230420T140000
DTEND;TZID=Europe/Berlin:20230420T160000
DTSTAMP:20260423T014153
CREATED:20230228T030023Z
LAST-MODIFIED:20230424T102855Z
UID:10006053-1681999200-1682006400@www.khg-in-bayreuth.de
SUMMARY:International Bible Group
DESCRIPTION:We meet every Thursday at 12.00 hrs to “share the bible”: Sitting together in a small group\, we read a text from the bible and share our thoughts\, questions\, irritations and inspirations. Critical views are welcome – we keep an open mind. Come along – regardless of whether you are a faithful Christian or a curious Atheist …
URL:https://www.khg-in-bayreuth.de/event/international-bible-group-3/2023-04-20/
LOCATION:KHG Bayreuth\, Emil-Warburg-Weg 17\, KHG Bayreuth\, 95447\, Deutschland
END:VEVENT
BEGIN:VEVENT
DTSTART;TZID=Europe/Berlin:20230420T180000
DTEND;TZID=Europe/Berlin:20230420T200000
DTSTAMP:20260423T014153
CREATED:20230129T174221Z
LAST-MODIFIED:20230129T174257Z
UID:10005396-1682013600-1682020800@www.khg-in-bayreuth.de
SUMMARY:Latin Rhythms class
DESCRIPTION:Join us! Salsa\, Reggaeton\, Merengue\, Bachata and other Latin rhythms.
URL:https://www.khg-in-bayreuth.de/event/latin-rhythms-class-3/2023-04-20/
LOCATION:KHG Bayreuth\, Emil-Warburg-Weg 17\, KHG Bayreuth\, 95447\, Deutschland
END:VEVENT
BEGIN:VEVENT
DTSTART;TZID=Europe/Berlin:20230420T200000
DTEND;TZID=Europe/Berlin:20230420T230000
DTSTAMP:20260423T014153
CREATED:20230308T111920Z
LAST-MODIFIED:20230428T084636Z
UID:10006149-1682020800-1682031600@www.khg-in-bayreuth.de
SUMMARY:Swahili Chor Bayreuth // Suahili Choir
DESCRIPTION:Jeden Donnerstag probt unser Swahili-Chor afrikanische Lieder in der KHG. Neue Sänger*innen sind jederzeit herzlich willkommen! \nEvery Thursday\, our Suahili choir rehearses African songs in the KHG. New singers are always welcome!
URL:https://www.khg-in-bayreuth.de/event/swahili-chor-bayreuth-suahili-choir-2/2023-04-20/
LOCATION:KHG Bayreuth\, Emil-Warburg-Weg 17\, KHG Bayreuth\, 95447\, Deutschland
END:VEVENT
END:VCALENDAR