BEGIN:VCALENDAR
VERSION:2.0
PRODID:-//KHG Bayreuth - ECPv6.15.3//NONSGML v1.0//EN
CALSCALE:GREGORIAN
METHOD:PUBLISH
X-WR-CALNAME:KHG Bayreuth
X-ORIGINAL-URL:https://www.khg-in-bayreuth.de
X-WR-CALDESC:Veranstaltungen für KHG Bayreuth
REFRESH-INTERVAL;VALUE=DURATION:PT1H
X-Robots-Tag:noindex
X-PUBLISHED-TTL:PT1H
BEGIN:VTIMEZONE
TZID:Europe/Berlin
BEGIN:DAYLIGHT
TZOFFSETFROM:+0100
TZOFFSETTO:+0200
TZNAME:CEST
DTSTART:20230326T010000
END:DAYLIGHT
BEGIN:STANDARD
TZOFFSETFROM:+0200
TZOFFSETTO:+0100
TZNAME:CET
DTSTART:20231029T010000
END:STANDARD
END:VTIMEZONE
BEGIN:VEVENT
DTSTART;TZID=Europe/Berlin:20230501T100000
DTEND;TZID=Europe/Berlin:20230501T170000
DTSTAMP:20260423T001226
CREATED:20230306T142140Z
LAST-MODIFIED:20230426T090606Z
UID:10005933-1682935200-1682960400@www.khg-in-bayreuth.de
SUMMARY:Höhlenwanderung in der Fränkischen Schweiz // Cave hike in the Fränkischen Schweiz
DESCRIPTION:Am Montag\, 1. Mai (Feiertag – Tag der Arbeit) seid Ihr herzlich eingeladen zu einer Höhlenwanderung in der Fränkischen Schweiz! 🏞️🦇🤩 \nNach aktueller Planung treffen wir uns um 10.00 Uhr an der KHG. Da es leider keine sinnvolle Verbindung mit Öffis gibt\, müssen wir Fahrgemeinschaften bilden – bitte bringt Euer Auto mit\, falls Ihr eines habt! Wir fahren dann ca. eine halbe Stunde in die Nähe von Plech und wandern dort einen Rundweg von ca. 11 km. Am Weg gibt es mehrere kleine und eine große Felsenhöhle\, an der wir eine ausgiebige Mittagspause machen\, so dass Ihr sie gemütlich erkunden könnt\, wenn Ihr Lust habt. Spätestens bis 17.00 Uhr sind wir zurück in Bayreuth und können dort noch einkehren oder Pizza bestellen. \nWichtig: Bitte achtet auf gutes Schuhwerk und zieht Klamotten an\, die dreckig werden dürfen! (Falls Ihr danach noch etwas vorhabt\, ist eventuell Wechselkleidung sinnvoll.) Die Höhle ist mit etwas Vorsicht auch ohne Helm begehbar\, aber es schadet nicht\, einen mitzubringen. \nAußerdem bitte mitbringen: Eine Brotzeit für die Mittagspause\, ausreichend Trinkwasser und eine Taschenlampe. \nBitte meldet Euch bis Donnerstag per E-Mail an khg@uni-bayreuth.de an. Bitte gebt dabei an: \n– Euren Namen und eine Handynummer für unterwegs \n– wie viele Mitfahrplätze Ihr anbieten könnt oder benötigt \n  \nWelcome to our  hike with caves on Monday\, May 1st (Labour Day holiday).🦇 \nWe meet at 10 a.m. at the KHG parking. We need to go by cars\, so please bring your car if you have one! \nWe’ll drive about half an hour\, then go on a hike of around 11 km (about three hours). There’ll be a few small caves on the way and a spectacular big one that you’ll have plenty of time to explore during lunch break. We’ll be back at Bayreuth at 5 p.m. as the latest (probably earlier) and can see then if we order pizza or go to a beer garden together. \nPlease register by Thursday via e-mail to khg@uni-bayreuth.de. We ask you to give a mobile phone number and tell us if you can bring a car. \nTo bring: Hiking boots\, clothes that can get dirty\, packed lunch and enough water to drink for yourself\, a torch\, a helmet if you want to be on the safe side.
URL:https://www.khg-in-bayreuth.de/event/hoehlenwanderung-in-der-fraenkischen-schweiz/
LOCATION:KHG Bayreuth\, Emil-Warburg-Weg 17\, KHG Bayreuth\, 95447\, Deutschland
END:VEVENT
BEGIN:VEVENT
DTSTART;TZID=Europe/Berlin:20230501T180000
DTEND;TZID=Europe/Berlin:20230501T210000
DTSTAMP:20260423T001226
CREATED:20230308T111112Z
LAST-MODIFIED:20230308T111352Z
UID:10005936-1682964000-1682974800@www.khg-in-bayreuth.de
SUMMARY:Theatergruppe “Die Schwarzen Schafe” // Theatre group “The Black Sheep”
DESCRIPTION:Die legendären “Schwarzen Schafe” treffen sich jeden Montag in der KHG. Neueinsteiger*innen sind besonders am Anfang des Semesters herzlich willkommen!\nDenn: Zu Beginn des Semesters suchen alle gemeinsam ein Stück aus\, danach wird regelmäßig geprobt. Am Semesterende wird die KHG dann zur Bühne für die Aufführung des Stücks. \nOur legendary “Black Sheep” meet every Monday in the KHG. Newcomers are especially welcome at the beginning of the semester!\nBecause: At the beginning of the semester\, everyone chooses a play together and then rehearses regularly. At the end of the semester\, the KHG becomes the stage for the performance of the play.
URL:https://www.khg-in-bayreuth.de/event/theatergruppe-die-schwarzen-schafe-theatre-group-the-black-sheep-2/2023-05-01/
LOCATION:KHG Bayreuth\, Emil-Warburg-Weg 17\, KHG Bayreuth\, 95447\, Deutschland
END:VEVENT
END:VCALENDAR