BEGIN:VCALENDAR
VERSION:2.0
PRODID:-//KHG Bayreuth - ECPv6.15.3//NONSGML v1.0//EN
CALSCALE:GREGORIAN
METHOD:PUBLISH
X-ORIGINAL-URL:https://www.khg-in-bayreuth.de
X-WR-CALDESC:Veranstaltungen für KHG Bayreuth
REFRESH-INTERVAL;VALUE=DURATION:PT1H
X-Robots-Tag:noindex
X-PUBLISHED-TTL:PT1H
BEGIN:VTIMEZONE
TZID:Europe/Berlin
BEGIN:DAYLIGHT
TZOFFSETFROM:+0100
TZOFFSETTO:+0200
TZNAME:CEST
DTSTART:20230326T010000
END:DAYLIGHT
BEGIN:STANDARD
TZOFFSETFROM:+0200
TZOFFSETTO:+0100
TZNAME:CET
DTSTART:20231029T010000
END:STANDARD
END:VTIMEZONE
BEGIN:VEVENT
DTSTART;VALUE=DATE:20230607
DTEND;VALUE=DATE:20230612
DTSTAMP:20260422T210827
CREATED:20230527T204149Z
LAST-MODIFIED:20230527T205233Z
UID:10006202-1686096000-1686527999@www.khg-in-bayreuth.de
SUMMARY:Evangelischer Kirchentag in Nürnberg
DESCRIPTION:Vom 7. bis 11. Juni findet in Nürnberg der Evangelische Kirchentag statt. Kirchentage sind fröhliche Feste des Glaubens mit einer Vielzahl von Veranstaltungen rund um Kirche\, Glaube\, Politik\, Kultur und Gemeinschaft. \nFür Studierende gibt es ein eigenes Zentrum. Unsere ökumenischen Geschwister aus den ESGen haben dort ein abwechslungsreiches Programm organisiert: https://www.kirchentag.de/programm/pgd/programmsuche#location/AVH700 \nDerzeit gibt es Überlegungen\, dass sich Studierende und Hochschulseelsorger*innen aus Franken und Bayern\, die auf dem Kirchentag unterwegs sind\, am Samstagabend\, 10. Juni\, um 20.00 Uhr beim “Poetry Preacher Slam” (siehe Link) treffen. Falls Ihr daran Interesse habt\, meldet Euch gerne bei Barbara: barbara.goeb@erzbistum-bamberg.de \nSagt bitte auch Bescheid\, falls Ihr Lust auf eine gemeinsame Tagesfahrt nach Nürnberg am Samstag habt – das lässt sich organisieren. \n– English version – \nThe Protestant Church Congress will take place in Nuremberg from 7 to 11 June. Church congresses are joyful celebrations of faith with a variety of events around church\, faith\, politics\, culture and community. \nThere is a special centre for students. Our ecumenical brothers and sisters from the ESG communities have organised a varied programme there: https://www.kirchentag.de/programm/pgd/programmsuche#location/AVH700 \nWe are currently considering that students and university chaplains from Franconia and Bavaria who are travelling to the Kirchentag should meet on Saturday evening at 8.00 pm at the “Poetry Preacher Slam” (see link). If you are interested\, please contact Barbara: barbara.goeb@erzbistum-bamberg.de \nPlease also let us know if you would like to go on a day trip to Nuremberg together on Saturday – that can be organised. \n  \n  \n 
URL:https://www.khg-in-bayreuth.de/event/evangelischer-kirchentag-in-nuernberg/
LOCATION:KHG Bayreuth\, Emil-Warburg-Weg 17\, KHG Bayreuth\, 95447\, Deutschland
END:VEVENT
BEGIN:VEVENT
DTSTART;TZID=Europe/Berlin:20230608T090000
DTEND;TZID=Europe/Berlin:20230608T120000
DTSTAMP:20260422T210827
CREATED:20230527T213151Z
LAST-MODIFIED:20230527T214759Z
UID:10006203-1686214800-1686225600@www.khg-in-bayreuth.de
SUMMARY:Fronleichnam // Corpus Christi
DESCRIPTION:Am Feiertag Fronleichnam ist die KHG geschlossen. Wer möchte\, kann mit uns am Fronleichnamsfest der Bayreuther Gemeinden teilnehmen: Beginn ist um 9.00 Uhr im Harmoniehof der Schlosskirche mit einer Eucharistiefeier\, danach schließt sich die Fronleichnamsprozession an. Wir laufen als KHG mit. Anschließend sind wir noch zu einem gemütlichen Beisammensein in der Gartenanlage am Schlossberglein eingeladen. \n– English version – \nThe KHG is closed on the Corpus Christi holiday. Those who wish can join us for the Corpus Christi celebration of the Bayreuth parishes: It starts at 9.00 a.m. in the Harmoniehof of the Schlosskirche with a Eucharistic celebration\, followed by the Corpus Christi procession. We will be walking as KHG. Afterwards we are invited to a convivial get-together in the garden at Schlossberglein. \n  \n 
URL:https://www.khg-in-bayreuth.de/event/fronleichnam-corpus-christi-2/
LOCATION:KHG Bayreuth\, Emil-Warburg-Weg 17\, KHG Bayreuth\, 95447\, Deutschland
END:VEVENT
BEGIN:VEVENT
DTSTART;TZID=Europe/Berlin:20230608T180000
DTEND;TZID=Europe/Berlin:20230608T200000
DTSTAMP:20260422T210827
CREATED:20230129T174221Z
LAST-MODIFIED:20230129T174257Z
UID:10005403-1686247200-1686254400@www.khg-in-bayreuth.de
SUMMARY:Latin Rhythms class
DESCRIPTION:Join us! Salsa\, Reggaeton\, Merengue\, Bachata and other Latin rhythms.
URL:https://www.khg-in-bayreuth.de/event/latin-rhythms-class-3/2023-06-08/
LOCATION:KHG Bayreuth\, Emil-Warburg-Weg 17\, KHG Bayreuth\, 95447\, Deutschland
END:VEVENT
END:VCALENDAR