BEGIN:VCALENDAR
VERSION:2.0
PRODID:-//KHG Bayreuth - ECPv6.15.3//NONSGML v1.0//EN
CALSCALE:GREGORIAN
METHOD:PUBLISH
X-ORIGINAL-URL:https://www.khg-in-bayreuth.de
X-WR-CALDESC:Veranstaltungen für KHG Bayreuth
REFRESH-INTERVAL;VALUE=DURATION:PT1H
X-Robots-Tag:noindex
X-PUBLISHED-TTL:PT1H
BEGIN:VTIMEZONE
TZID:Europe/Berlin
BEGIN:DAYLIGHT
TZOFFSETFROM:+0100
TZOFFSETTO:+0200
TZNAME:CEST
DTSTART:20230326T010000
END:DAYLIGHT
BEGIN:STANDARD
TZOFFSETFROM:+0200
TZOFFSETTO:+0100
TZNAME:CET
DTSTART:20231029T010000
END:STANDARD
END:VTIMEZONE
BEGIN:VEVENT
DTSTART;TZID=Europe/Berlin:20230613T200000
DTEND;TZID=Europe/Berlin:20230613T220000
DTSTAMP:20260422T224130
CREATED:20230414T073042Z
LAST-MODIFIED:20230527T224139Z
UID:10006034-1686686400-1686693600@www.khg-in-bayreuth.de
SUMMARY:KHG-Barabend: Chemische Experimente // Chemistry experiments
DESCRIPTION:Play it again\, Sam – unser spannender und spaßiger Chemieabend im Wintersemester schreit nach einer Wiederholung. Diesmal kommt Prof. Dr. Matthias Breuning zu uns und lässt uns an den Geheimnissen chemischer Prozesse teilnehmen.  \nPlay it again\, Sam – our exciting and fun chemistry evening in the winter semester is crying out for a repeat. This time Prof. Dr. Matthias Breuning joins us and lets us participate in the secrets of chemical processes.
URL:https://www.khg-in-bayreuth.de/event/khg-barabend-chemische-experimente-oder-planspiel-chemistry-experiments-or-business-game/
LOCATION:KHG Bayreuth\, Emil-Warburg-Weg 17\, KHG Bayreuth\, 95447\, Deutschland
END:VEVENT
END:VCALENDAR