BEGIN:VCALENDAR
VERSION:2.0
PRODID:-//KHG Bayreuth - ECPv6.15.3//NONSGML v1.0//EN
CALSCALE:GREGORIAN
METHOD:PUBLISH
X-WR-CALNAME:KHG Bayreuth
X-ORIGINAL-URL:https://www.khg-in-bayreuth.de
X-WR-CALDESC:Veranstaltungen für KHG Bayreuth
REFRESH-INTERVAL;VALUE=DURATION:PT1H
X-Robots-Tag:noindex
X-PUBLISHED-TTL:PT1H
BEGIN:VTIMEZONE
TZID:Europe/Berlin
BEGIN:DAYLIGHT
TZOFFSETFROM:+0100
TZOFFSETTO:+0200
TZNAME:CEST
DTSTART:20230326T010000
END:DAYLIGHT
BEGIN:STANDARD
TZOFFSETFROM:+0200
TZOFFSETTO:+0100
TZNAME:CET
DTSTART:20231029T010000
END:STANDARD
END:VTIMEZONE
BEGIN:VEVENT
DTSTART;TZID=Europe/Berlin:20230625T190000
DTEND;TZID=Europe/Berlin:20230625T200000
DTSTAMP:20260422T204921
CREATED:20230405T113459Z
LAST-MODIFIED:20230414T074223Z
UID:10006024-1687719600-1687723200@www.khg-in-bayreuth.de
SUMMARY:KHG-Messe am Feuer // KHG Mass by the fire
DESCRIPTION:Passend zum Johannistag feiern wir die Messe vor der KHG an der Feuerschale. Im Anschluss bleiben wir zusammen bei Pizza und Stockbrot. \nIn keeping with St. John’s Day\, we celebrate Mass in front of the KHG at the fire bowl. Afterwards we stay together with pizza and stick bread. \n 
URL:https://www.khg-in-bayreuth.de/event/khg-messe-holy-mass-6/
LOCATION:KHG Bayreuth\, Emil-Warburg-Weg 17\, KHG Bayreuth\, 95447\, Deutschland
END:VEVENT
END:VCALENDAR