BEGIN:VCALENDAR
VERSION:2.0
PRODID:-//KHG Bayreuth - ECPv6.15.3//NONSGML v1.0//EN
CALSCALE:GREGORIAN
METHOD:PUBLISH
X-ORIGINAL-URL:https://www.khg-in-bayreuth.de
X-WR-CALDESC:Veranstaltungen für KHG Bayreuth
REFRESH-INTERVAL;VALUE=DURATION:PT1H
X-Robots-Tag:noindex
X-PUBLISHED-TTL:PT1H
BEGIN:VTIMEZONE
TZID:Europe/Berlin
BEGIN:DAYLIGHT
TZOFFSETFROM:+0100
TZOFFSETTO:+0200
TZNAME:CEST
DTSTART:20230326T010000
END:DAYLIGHT
BEGIN:STANDARD
TZOFFSETFROM:+0200
TZOFFSETTO:+0100
TZNAME:CET
DTSTART:20231029T010000
END:STANDARD
END:VTIMEZONE
BEGIN:VEVENT
DTSTART;TZID=Europe/Berlin:20230627T200000
DTEND;TZID=Europe/Berlin:20230627T220000
DTSTAMP:20260422T205142
CREATED:20230414T074425Z
LAST-MODIFIED:20230527T230819Z
UID:10006038-1687896000-1687903200@www.khg-in-bayreuth.de
SUMMARY:KHG-Barabend: Kalligraphie\, Inschriften und Buchmalerei // Calligraphy\, inscriptions and book illumination
DESCRIPTION:Eine spannende Zeitreise in die Schriftkunst vergangener Jahrhunderte – mit praktischen Übungen!\n \nAn exciting journey through time into the penmanship of past centuries – with practical exercises!
URL:https://www.khg-in-bayreuth.de/event/khg-barabend-kalligraphie-inschriften-und-buchmalerei-schriftentwicklung-im-christlichen-mittelalter-im-rahmen-der-campuskulturwoche-calligraphy-inscriptions-and-book-illumin/
LOCATION:KHG Bayreuth\, Emil-Warburg-Weg 17\, KHG Bayreuth\, 95447\, Deutschland
END:VEVENT
END:VCALENDAR