BEGIN:VCALENDAR
VERSION:2.0
PRODID:-//KHG Bayreuth - ECPv6.15.3//NONSGML v1.0//EN
CALSCALE:GREGORIAN
METHOD:PUBLISH
X-WR-CALNAME:KHG Bayreuth
X-ORIGINAL-URL:https://www.khg-in-bayreuth.de
X-WR-CALDESC:Veranstaltungen für KHG Bayreuth
REFRESH-INTERVAL;VALUE=DURATION:PT1H
X-Robots-Tag:noindex
X-PUBLISHED-TTL:PT1H
BEGIN:VTIMEZONE
TZID:Europe/Berlin
BEGIN:DAYLIGHT
TZOFFSETFROM:+0100
TZOFFSETTO:+0200
TZNAME:CEST
DTSTART:20230326T010000
END:DAYLIGHT
BEGIN:STANDARD
TZOFFSETFROM:+0200
TZOFFSETTO:+0100
TZNAME:CET
DTSTART:20231029T010000
END:STANDARD
END:VTIMEZONE
BEGIN:VEVENT
DTSTART;TZID=Europe/Berlin:20230714T100000
DTEND;TZID=Europe/Berlin:20230714T113000
DTSTAMP:20260422T191910
CREATED:20230217T035451Z
LAST-MODIFIED:20230217T035451Z
UID:10005666-1689328800-1689334200@www.khg-in-bayreuth.de
SUMMARY:Deutschkurs // German language class
DESCRIPTION:Studierende der Universität Bayreuth organisieren ehrenamtlich Deutsch-Sprachkurse für Geflüchtete und internationale Studierende. Kommt einfach vorbei! \nStudents of Bayreuth University organise volunteer German language courses for refugees and international Students. Come along!
URL:https://www.khg-in-bayreuth.de/event/deutschkurs-german-language-class-9/2023-07-14/
LOCATION:KHG Bayreuth\, Emil-Warburg-Weg 17\, KHG Bayreuth\, 95447\, Deutschland
END:VEVENT
BEGIN:VEVENT
DTSTART;TZID=Europe/Berlin:20230714T190000
DTEND;TZID=Europe/Berlin:20230714T200000
DTSTAMP:20260422T191910
CREATED:20230417T122640Z
LAST-MODIFIED:20230417T122646Z
UID:10006042-1689361200-1689364800@www.khg-in-bayreuth.de
SUMMARY:Ökumenischer Semesterschlussgottesdienst mit dem Gpospelchor im Ökologisch-Botansichen Garten // Ecumenical end-of-semester service with the Gpospel Choir in the Ecological-Botanical Garden
DESCRIPTION:Wir schließen das Semester mit einem ökumenischen Gottesdienst im ÖBG\, anschließend grillen wir vor der KHG. \nWe close the semester with an ecumenical service in the ÖBG\, followed by a barbecue in front of the KHG.
URL:https://www.khg-in-bayreuth.de/event/oekumenischer-semesterschlussgottesdienst-mit-dem-gpospelchor-im-oekologisch-botansichen-garten-ecumenical-end-of-semester-service-with-the-gpospel-choir-in-the-ecological-botanical-garden/
LOCATION:KHG Bayreuth\, Emil-Warburg-Weg 17\, KHG Bayreuth\, 95447\, Deutschland
END:VEVENT
END:VCALENDAR