BEGIN:VCALENDAR
VERSION:2.0
PRODID:-//KHG Bayreuth - ECPv6.15.3//NONSGML v1.0//EN
CALSCALE:GREGORIAN
METHOD:PUBLISH
X-ORIGINAL-URL:https://www.khg-in-bayreuth.de
X-WR-CALDESC:Veranstaltungen für KHG Bayreuth
REFRESH-INTERVAL;VALUE=DURATION:PT1H
X-Robots-Tag:noindex
X-PUBLISHED-TTL:PT1H
BEGIN:VTIMEZONE
TZID:Europe/Berlin
BEGIN:DAYLIGHT
TZOFFSETFROM:+0100
TZOFFSETTO:+0200
TZNAME:CEST
DTSTART:20230326T010000
END:DAYLIGHT
BEGIN:STANDARD
TZOFFSETFROM:+0200
TZOFFSETTO:+0100
TZNAME:CET
DTSTART:20231029T010000
END:STANDARD
END:VTIMEZONE
BEGIN:VEVENT
DTSTART;TZID=Europe/Berlin:20230722T090000
DTEND;TZID=Europe/Berlin:20230722T113000
DTSTAMP:20260422T191438
CREATED:20230714T080912Z
LAST-MODIFIED:20230714T081338Z
UID:10006206-1690016400-1690025400@www.khg-in-bayreuth.de
SUMMARY:Eisführung und -tasting // Ice tour and -tasting
DESCRIPTION:Ein leckeres Eis gehört zum Sommer dazu! \nAber habt ihr euch schonmal die Frage gestellt\, wie das Eis in eurer Lieblingseisdiele hergestellt wird?\nWir wollen dieser Frage auf den Grund gehen und werden dafür einen Blick hinter die Kulissen der Eisdiele Buonissimo hier in Bayreuth werfen.\nDas vor unseren Augen hergestellte Eis dürfen wir im Anschluss auch probieren und das Beste: sowohl die Führung als auch das anschließende Tasting sind kostenfrei! \nAchtung: Die Veranstaltung findet ausnahmsweise an einem Samstag\, nämlich den 22.07.2023 statt und beginnt bereits um 9 Uhr morgens.\nSeid bitte um 9 Uhr an der Eisdiele Buonissimo in der Innenstadt (Maximilianstraße 26\, 95444 Bayreuth).\nEine Teilnahme ist aufgrund begrenzter Teilnehmerzahl (max. 20)  nur nach vorheriger Anmeldung möglich. Anmeldungen sind bis zum 19.07.2023 per E-Mail an khg@uni-bayreuth.de möglich. \n\n\n\n\nA delicious ice cream is part of summer! But have you ever wondered how the ice cream is made in your favorite ice cream shop? We want to get to the bottom of this question and will take a look behind the scenes at the Buonissimo ice cream parlor here in Bayreuth. We can also try the ice cream that is made in front of our eyes and best of all: both the tour and the subsequent tasting are free! \nAttention: The event will take place exceptionally on a Saturday\, namely July 22\, 2023\, and will start at 9 a.m. Please be at the Buonissimo ice cream parlor in the city center at 9 a.m. (Maximilianstraße 26\, 95444 Bayreuth). Participation is only possible after prior registration due to the limited number of participants (max. 20). Registrations are possible until July 19\, 2023 by email to khg@uni-bayreuth.de. \n\n\n\n 
URL:https://www.khg-in-bayreuth.de/event/eisfuehrung-und-tasting-ice-tour-and-tasting/
LOCATION:Eisdiele Buonissimo\, Maximilianstr. 26\, Bayreuth
END:VEVENT
END:VCALENDAR