BEGIN:VCALENDAR
VERSION:2.0
PRODID:-//KHG Bayreuth - ECPv6.15.3//NONSGML v1.0//EN
CALSCALE:GREGORIAN
METHOD:PUBLISH
X-ORIGINAL-URL:https://www.khg-in-bayreuth.de
X-WR-CALDESC:Veranstaltungen für KHG Bayreuth
REFRESH-INTERVAL;VALUE=DURATION:PT1H
X-Robots-Tag:noindex
X-PUBLISHED-TTL:PT1H
BEGIN:VTIMEZONE
TZID:Europe/Berlin
BEGIN:DAYLIGHT
TZOFFSETFROM:+0100
TZOFFSETTO:+0200
TZNAME:CEST
DTSTART:20230326T010000
END:DAYLIGHT
BEGIN:STANDARD
TZOFFSETFROM:+0200
TZOFFSETTO:+0100
TZNAME:CET
DTSTART:20231029T010000
END:STANDARD
END:VTIMEZONE
BEGIN:VEVENT
DTSTART;TZID=Europe/Berlin:20231016T070000
DTEND;TZID=Europe/Berlin:20231016T080000
DTSTAMP:20260422T141436
CREATED:20230811T092316Z
LAST-MODIFIED:20230811T092329Z
UID:10006207-1697439600-1697443200@www.khg-in-bayreuth.de
SUMMARY:Frühschicht mit Frühstück // Morning prayer
DESCRIPTION:Alle zwei Wochen treffen wir uns am Montag zu einem meditativen Tageseinstieg in der Kapelle. Anschließend frühstücken wir gemeinsam. Herzliche Einladung! \nEvery two weeks on Monday we meet for a meditative start to the day in the chapel. Afterwards we have breakfast together. Cordial invitation!
URL:https://www.khg-in-bayreuth.de/event/fruehschicht-mit-fruehstueck-morning-prayer-2/
LOCATION:KHG Bayreuth\, Emil-Warburg-Weg 17\, KHG Bayreuth\, 95447\, Deutschland
END:VEVENT
BEGIN:VEVENT
DTSTART;TZID=Europe/Berlin:20231016T190000
DTEND;TZID=Europe/Berlin:20231016T200000
DTSTAMP:20260422T141436
CREATED:20230828T081329Z
LAST-MODIFIED:20230828T081336Z
UID:10006211-1697482800-1697486400@www.khg-in-bayreuth.de
SUMMARY:Campus-Abend an der Univeristät Bayreuth // Campus Evening at the University of Bayreuth
DESCRIPTION:Die KHG und ihre Gruppen stellen sich vor.\nThe KHG and its groups introduce themselves.
URL:https://www.khg-in-bayreuth.de/event/campus-abend-an-der-univeristaet-bayreuth-campus-evening-at-the-university-of-bayreuth/
LOCATION:KHG Bayreuth\, Emil-Warburg-Weg 17\, KHG Bayreuth\, 95447\, Deutschland
END:VEVENT
END:VCALENDAR