BEGIN:VCALENDAR
VERSION:2.0
PRODID:-//KHG Bayreuth - ECPv6.15.3//NONSGML v1.0//EN
CALSCALE:GREGORIAN
METHOD:PUBLISH
X-WR-CALNAME:KHG Bayreuth
X-ORIGINAL-URL:https://www.khg-in-bayreuth.de
X-WR-CALDESC:Veranstaltungen für KHG Bayreuth
REFRESH-INTERVAL;VALUE=DURATION:PT1H
X-Robots-Tag:noindex
X-PUBLISHED-TTL:PT1H
BEGIN:VTIMEZONE
TZID:Europe/Berlin
BEGIN:DAYLIGHT
TZOFFSETFROM:+0100
TZOFFSETTO:+0200
TZNAME:CEST
DTSTART:20230326T010000
END:DAYLIGHT
BEGIN:STANDARD
TZOFFSETFROM:+0200
TZOFFSETTO:+0100
TZNAME:CET
DTSTART:20231029T010000
END:STANDARD
END:VTIMEZONE
BEGIN:VEVENT
DTSTART;TZID=Europe/Berlin:20231021T100000
DTEND;TZID=Europe/Berlin:20231021T210000
DTSTAMP:20260422T141705
CREATED:20230811T100151Z
LAST-MODIFIED:20230925T104943Z
UID:10006209-1697882400-1697922000@www.khg-in-bayreuth.de
SUMMARY:Ökumenischer Kennenlerntag (nicht nur) für Erstsemester // Ecumenical (not only) freshmen’s day
DESCRIPTION:Programmänderungen möglich.\nHerzliche Einladung zum Kennenlerntag der ESG und KHG am Samstag\, den 21.10.2023!\nDabei wollen euch die KHG (Katholische Hochschulgemeinde) und die ESG (Evangelische Studierendengemeinde) die Möglichkeit geben\, erste Kontakte mit anderen Studierenden\nzu knüpfen\, Fragen zu stellen und Bayreuth etwas besser kennenzulernen.\nBeginn um 10 Uhr in der ESG (Richard-Wagner-Straße 24)\n– “Meet & Greet”\n– Kennenlernspiele\n– gemeinsames Kochen\n– Mittagessen\n– evtl. Stadtkirche mit Turmbesteigung (toller Blick über Bayreuth!)\n– Stadtralley\n– Kaffee und Kuchen in der KHG\n– Informationen für Studienanfänger von der Zentralen Studienberatung und dem International Office \nNach einer Verschnauf- und Umbaupause findet um 19 Uhr zum Abschluss des Kennenlerntages der ökumenische Semesteranfangsgottesdienst in der KHG-Kapelle statt. Anschließend ist die Bar geöffnet und es gibt Pizza!\nWenn ihr an diesem Kennenlerntag teilnehmen wollt\, meldet euch bitte bis zum 18.10. per Mail (khg@uni-bayreuth.de oder esg.bayreuth@elkb.de) oder in den Büros der KHG oder ESG an. \nTeilnehmerbeitrag: 5 €\nWir freuen uns über euer Kommen! \nProgram changes possible.\nWe cordially invite you to the “Kennenlerntag” of the ESG and KHG on Saturday\, 21.10.2023!\nThe KHG (Katholische Hochschulgemeinde) and the ESG (Evangelische Studierendengemeinde) want to give you the opportunity to make first contacts with other students\, ask questions and get to know Bayreuth a little better.\nto make first contacts with other students\, to ask questions and to get to know Bayreuth a little better.\nStart at 10 a.m. in the ESG (Richard-Wagner-Straße 24).\n– “Meet & Greet”\n– games to get to know each other\n– cooking together\n– lunch\n– Possibly visit the city church and climb the tower (great view over Bayreuth!)\n– city rally\n– Coffee and cake at the KHG\n– Information for first-year students from the Central Student Student Advisory Service and the International Office \nAfter a breather and rebuilding break\, the ecumenical beginning-of-semester service will take place at 7 p.m. in the KHG chapel to conclude the get-to-know-you day. Afterwards\, the bar will be open and pizza will be served!\nIf you would like to take part in this day of getting to know each other\, please register by 18.10. by mail (khg@uni-bayreuth.de or esg.bayreuth@elkb.de) or in the offices of the KHG or ESG. \nParticipation fee: 5 €\nWe are looking forward to your coming!
URL:https://www.khg-in-bayreuth.de/event/kennenlentag-fuer-estsemester/
LOCATION:KHG Bayreuth\, Emil-Warburg-Weg 17\, KHG Bayreuth\, 95447\, Deutschland
END:VEVENT
BEGIN:VEVENT
DTSTART;TZID=Europe/Berlin:20231021T190000
DTEND;TZID=Europe/Berlin:20231021T200000
DTSTAMP:20260422T141705
CREATED:20230901T065557Z
LAST-MODIFIED:20230901T065726Z
UID:10006230-1697914800-1697918400@www.khg-in-bayreuth.de
SUMMARY:Ökumenischer Semesteranfansgottesdienst mit dem Gospelchor // Ecumenical semester kick-off service with the gospel choir
DESCRIPTION:Wir starten mit einem ökumenischen Gottesdienst in das Semester – musikalisch gestaltet vom Gospelchor. Im Anschluss seid Ihr herzlich eingeladen\, bei Barbetrieb und Pizza miteinander ins Gespräch zu kommen und neue Kontakte zu knüpfen.\nWe start the semester with an ecumenical service – musically performed by the gospel choir. Afterwards\, you are cordially invited to drinks\, pizza and to get into conversation with each other and make new contacts.
URL:https://www.khg-in-bayreuth.de/event/oekumenischer-semesteranfansgottesdienst-mit-dem-gospelchor-ecumenical-semester-kick-off-service-with-the-gospel-choir/
LOCATION:KHG Bayreuth\, Emil-Warburg-Weg 17\, KHG Bayreuth\, 95447\, Deutschland
END:VEVENT
END:VCALENDAR