BEGIN:VCALENDAR
VERSION:2.0
PRODID:-//KHG Bayreuth - ECPv6.15.3//NONSGML v1.0//EN
CALSCALE:GREGORIAN
METHOD:PUBLISH
X-WR-CALNAME:KHG Bayreuth
X-ORIGINAL-URL:https://www.khg-in-bayreuth.de
X-WR-CALDESC:Veranstaltungen für KHG Bayreuth
REFRESH-INTERVAL;VALUE=DURATION:PT1H
X-Robots-Tag:noindex
X-PUBLISHED-TTL:PT1H
BEGIN:VTIMEZONE
TZID:Europe/Berlin
BEGIN:DAYLIGHT
TZOFFSETFROM:+0100
TZOFFSETTO:+0200
TZNAME:CEST
DTSTART:20230326T010000
END:DAYLIGHT
BEGIN:STANDARD
TZOFFSETFROM:+0200
TZOFFSETTO:+0100
TZNAME:CET
DTSTART:20231029T010000
END:STANDARD
END:VTIMEZONE
BEGIN:VEVENT
DTSTART;TZID=Europe/Berlin:20231024T200000
DTEND;TZID=Europe/Berlin:20231024T220000
DTSTAMP:20260422T142029
CREATED:20230828T081543Z
LAST-MODIFIED:20231011T095739Z
UID:10006212-1698177600-1698184800@www.khg-in-bayreuth.de
SUMMARY:KHG-Barabend: Gameshow-Abend mit Spiel\, Spaß und Spannung // Gameshow evening with games\, fun and excitement
DESCRIPTION:Nähere Infos folgen. \nMore info to follow.
URL:https://www.khg-in-bayreuth.de/event/khg-barabend-show-abend-mit-spiel-spass-und-spannung-show-evening-with-games-fun-and-excitement/
LOCATION:KHG Bayreuth\, Emil-Warburg-Weg 17\, KHG Bayreuth\, 95447\, Deutschland
END:VEVENT
END:VCALENDAR