BEGIN:VCALENDAR
VERSION:2.0
PRODID:-//KHG Bayreuth - ECPv6.15.3//NONSGML v1.0//EN
CALSCALE:GREGORIAN
METHOD:PUBLISH
X-WR-CALNAME:KHG Bayreuth
X-ORIGINAL-URL:https://www.khg-in-bayreuth.de
X-WR-CALDESC:Veranstaltungen für KHG Bayreuth
REFRESH-INTERVAL;VALUE=DURATION:PT1H
X-Robots-Tag:noindex
X-PUBLISHED-TTL:PT1H
BEGIN:VTIMEZONE
TZID:Europe/Berlin
BEGIN:DAYLIGHT
TZOFFSETFROM:+0100
TZOFFSETTO:+0200
TZNAME:CEST
DTSTART:20230326T010000
END:DAYLIGHT
BEGIN:STANDARD
TZOFFSETFROM:+0200
TZOFFSETTO:+0100
TZNAME:CET
DTSTART:20231029T010000
END:STANDARD
END:VTIMEZONE
BEGIN:VEVENT
DTSTART;TZID=Europe/Berlin:20231028T090000
DTEND;TZID=Europe/Berlin:20231028T170000
DTSTAMP:20260422T141209
CREATED:20230828T081658Z
LAST-MODIFIED:20231026T150110Z
UID:10006213-1698483600-1698512400@www.khg-in-bayreuth.de
SUMMARY:Ökumenische Wanderung // Ecumenical hike
DESCRIPTION:– English version below – \nHerzlich willkommen zu unserer ökumenischen Wanderung zu Naturschönheiten rund um Bayreuth! \nWir treffen uns um 9:40 Uhr am Hauptbahnhof. Wer aus Kulmbach kommt\, kann einen Zug um 8:58 Uhr nehmen\, der um 9:29 Uhr in Bayreuth ankommt.\nUm 10:02 Uhr nehmen wir dann gegenüber vom Bahnhof den Bus 373 Richtung Eckersdorf. Dort steigen wir am Schloss Fantaisie aus\, wandern durch das Salamandertal und schließlich durch das Teufelsloch nach Dörnhof. Gesamtstrecke ca. 10 km\, Dauer ca. vier Stunden.\nVon Dörnhof können wir dann entweder den Bus zurück nach Bayreuth nehmen oder – falls wir noch Lust und Energie haben – zurück nach Bayreuth wandern.\nLeider gibt es bei dieser Wanderung keine Einkehrmöglichkeit. Nehmt Euch deshalb bitte eine Brotzeit und genügend zu Trinken mit! Falls Ihr aber anschließend noch Lust habt\, können wir nach unserer Rückkehr in Bayreuth einkehren (dafür am besten noch etwas Geld mitbringen).\nDenkt bitte unbedingt an gute Wanderschuhe und wetterfeste Kleidung! \n— \n– English version – \nWelcome to our Ecumenical Hike around Bayreuth and its nature highlights! \nWe will meet at 9:40 am at the main train station. Those coming from Kulmbach can take the 8:58 train\, which arrives in Bayreuth at 9:29.\nAt 10:02 we will then take bus 373 opposite the station in the direction of Eckersdorf. There we get off at Fantaisie Castle\, walk through the Salamander Valley and finally through the Devil’s Hole to Dörnhof. Total distance approx. 10 km\, duration approx. four hours.\nFrom Dörnhof we can either take the bus back to Bayreuth or – if we still feel like it and have energy – hike back to Bayreuth.\nUnfortunately\, there is no refreshment stop on this hike. So please take a snack and enough to drink with you! However\, if you still feel like it\, we can stop for a bite to eat in Bayreuth on our return (bring some money for this).\nPlease remember to bring good walking shoes and weatherproof clothing!
URL:https://www.khg-in-bayreuth.de/event/oekumenische-wanderung-ecumenical-hike-4/
LOCATION:KHG Bayreuth\, Emil-Warburg-Weg 17\, KHG Bayreuth\, 95447\, Deutschland
END:VEVENT
END:VCALENDAR