BEGIN:VCALENDAR
VERSION:2.0
PRODID:-//KHG Bayreuth - ECPv6.15.3//NONSGML v1.0//EN
CALSCALE:GREGORIAN
METHOD:PUBLISH
X-WR-CALNAME:KHG Bayreuth
X-ORIGINAL-URL:https://www.khg-in-bayreuth.de
X-WR-CALDESC:Veranstaltungen für KHG Bayreuth
REFRESH-INTERVAL;VALUE=DURATION:PT1H
X-Robots-Tag:noindex
X-PUBLISHED-TTL:PT1H
BEGIN:VTIMEZONE
TZID:Europe/Berlin
BEGIN:DAYLIGHT
TZOFFSETFROM:+0100
TZOFFSETTO:+0200
TZNAME:CEST
DTSTART:20230326T010000
END:DAYLIGHT
BEGIN:STANDARD
TZOFFSETFROM:+0200
TZOFFSETTO:+0100
TZNAME:CET
DTSTART:20231029T010000
END:STANDARD
END:VTIMEZONE
BEGIN:VEVENT
DTSTART;TZID=Europe/Berlin:20231031T200000
DTEND;TZID=Europe/Berlin:20231031T220000
DTSTAMP:20260422T091011
CREATED:20230828T081751Z
LAST-MODIFIED:20231020T084452Z
UID:10006214-1698782400-1698789600@www.khg-in-bayreuth.de
SUMMARY:Mexikanischer Abend - "Diá de los Muertos" // Mexican evening - "Diá de los Muertos"
DESCRIPTION:“Día de los muertos” &#127474;&#127485;&#128367;&#65039;&#127801;&#9904;&#128128;&#128128;&#128128;&#9904;&#65039;&#127801;&#128367;&#65039;&#65039;&#127474;&#127485; \nEines der wichtigsten Feste in Mexiko\, das dem Gedenken und der Erinnerung an die Menschen gewidmet ist\, die nicht mehr unter uns sind. Kommen Sie an diesem Abend zu uns\, um diese wichtige Tradition kennenzulernen und darüber zu sprechen. Bringen Sie ein oder mehrere Fotos der Personen mit\, derer Sie gedenken und die Sie in den “Altar” stellen möchten. \nDanach können wir einen gemütlichen Abend verbringen &#129305;mit mexikanischer Stimmung und Essen. \n"Día de los muertos"   \n&#127474;&#127485;&#128367;&#65039;&#127801;&#9904;&#128128;&#128128;&#128128;&#9904;&#65039;&#127801;&#128367;&#65039;&#65039;&#127474;&#127485;\nOne of the main festivities of México\, dedicated to remember and memorize those people who are not anymore with us.\nJoin us in this evening to know and talk about this important tradition. Bring a photo(s) with you of those people you want to commemorate\nand to put in the "Altar" Then\, we can share a chill evening &#129305;with some mexican mood and food.
URL:https://www.khg-in-bayreuth.de/event/dinner-in-the-dark-3/
LOCATION:KHG Bayreuth\, Emil-Warburg-Weg 17\, KHG Bayreuth\, 95447\, Deutschland
END:VEVENT
END:VCALENDAR