BEGIN:VCALENDAR
VERSION:2.0
PRODID:-//KHG Bayreuth - ECPv6.15.3//NONSGML v1.0//EN
CALSCALE:GREGORIAN
METHOD:PUBLISH
X-ORIGINAL-URL:https://www.khg-in-bayreuth.de
X-WR-CALDESC:Veranstaltungen für KHG Bayreuth
REFRESH-INTERVAL;VALUE=DURATION:PT1H
X-Robots-Tag:noindex
X-PUBLISHED-TTL:PT1H
BEGIN:VTIMEZONE
TZID:Europe/Berlin
BEGIN:DAYLIGHT
TZOFFSETFROM:+0100
TZOFFSETTO:+0200
TZNAME:CEST
DTSTART:20230326T010000
END:DAYLIGHT
BEGIN:STANDARD
TZOFFSETFROM:+0200
TZOFFSETTO:+0100
TZNAME:CET
DTSTART:20231029T010000
END:STANDARD
END:VTIMEZONE
BEGIN:VEVENT
DTSTART;TZID=Europe/Berlin:20231117T183000
DTEND;TZID=Europe/Berlin:20231117T200000
DTSTAMP:20260422T072245
CREATED:20231011T105611Z
LAST-MODIFIED:20231011T105645Z
UID:10006488-1700245800-1700251200@www.khg-in-bayreuth.de
SUMMARY:Salsa & Bachata
DESCRIPTION:Kostenlose Tanzstunde: Es wird Salsa und Bachata getanzt. Herzlich willkommen!
URL:https://www.khg-in-bayreuth.de/event/salsa-bachata-2/2023-11-17/
LOCATION:KHG Bayreuth\, Emil-Warburg-Weg 17\, KHG Bayreuth\, 95447\, Deutschland
END:VEVENT
BEGIN:VEVENT
DTSTART;TZID=Europe/Berlin:20231117T200000
DTEND;TZID=Europe/Berlin:20231117T220000
DTSTAMP:20260422T072245
CREATED:20231011T101609Z
LAST-MODIFIED:20231011T101616Z
UID:10006409-1700251200-1700258400@www.khg-in-bayreuth.de
SUMMARY:Deutsch-chinesischer Stammtisch // German-Chinese regulars' table
DESCRIPTION:Nähere Infos folgen. \nMore info to follow.
URL:https://www.khg-in-bayreuth.de/event/deutsch-chinesischer-stammtisch-german-chinese-regulars-table-8/
LOCATION:KHG Bayreuth\, Emil-Warburg-Weg 17\, KHG Bayreuth\, 95447\, Deutschland
END:VEVENT
END:VCALENDAR