BEGIN:VCALENDAR
VERSION:2.0
PRODID:-//KHG Bayreuth - ECPv6.15.3//NONSGML v1.0//EN
CALSCALE:GREGORIAN
METHOD:PUBLISH
X-WR-CALNAME:KHG Bayreuth
X-ORIGINAL-URL:https://www.khg-in-bayreuth.de
X-WR-CALDESC:Veranstaltungen für KHG Bayreuth
REFRESH-INTERVAL;VALUE=DURATION:PT1H
X-Robots-Tag:noindex
X-PUBLISHED-TTL:PT1H
BEGIN:VTIMEZONE
TZID:Europe/Berlin
BEGIN:DAYLIGHT
TZOFFSETFROM:+0100
TZOFFSETTO:+0200
TZNAME:CEST
DTSTART:20230326T010000
END:DAYLIGHT
BEGIN:STANDARD
TZOFFSETFROM:+0200
TZOFFSETTO:+0100
TZNAME:CET
DTSTART:20231029T010000
END:STANDARD
END:VTIMEZONE
BEGIN:VEVENT
DTSTART;TZID=Europe/Berlin:20231126T183000
DTEND;TZID=Europe/Berlin:20231126T203000
DTSTAMP:20260422T072144
CREATED:20230830T113858Z
LAST-MODIFIED:20230830T113906Z
UID:10006215-1701023400-1701030600@www.khg-in-bayreuth.de
SUMMARY:Sunday Evening Church im Iris Pub "Dubliner"
DESCRIPTION:Gemeinsam mit dem Ökumenischen Gospelchor gestalten wir mit der BDKJ Bayreuth einen unterhaltsamen und spirituellen Gottesdienst mitten in der Kneipe. Thema: Zeit und Ewigkeit.\nIhr könnt dabei ganz normal essen und trinken. \nTogether with the Ecumenical Gospel Choir we create an entertaining and spiritual service in the middle of the pub with the BDKJ Bayreuth. Topic: Time and eternity.\nYou can eat and drink normally.
URL:https://www.khg-in-bayreuth.de/event/sunday-evening-church-im-iris-pub-dubliner/
LOCATION:Dubliner Irish Pub\, Wittelsbacherring 2-4\, Bayreuth\, 95444\, Deutschland
END:VEVENT
END:VCALENDAR