BEGIN:VCALENDAR
VERSION:2.0
PRODID:-//KHG Bayreuth - ECPv6.15.3//NONSGML v1.0//EN
CALSCALE:GREGORIAN
METHOD:PUBLISH
X-WR-CALNAME:KHG Bayreuth
X-ORIGINAL-URL:https://www.khg-in-bayreuth.de
X-WR-CALDESC:Veranstaltungen für KHG Bayreuth
REFRESH-INTERVAL;VALUE=DURATION:PT1H
X-Robots-Tag:noindex
X-PUBLISHED-TTL:PT1H
BEGIN:VTIMEZONE
TZID:Europe/Berlin
BEGIN:DAYLIGHT
TZOFFSETFROM:+0100
TZOFFSETTO:+0200
TZNAME:CEST
DTSTART:20230326T010000
END:DAYLIGHT
BEGIN:STANDARD
TZOFFSETFROM:+0200
TZOFFSETTO:+0100
TZNAME:CET
DTSTART:20231029T010000
END:STANDARD
END:VTIMEZONE
BEGIN:VEVENT
DTSTART;TZID=Europe/Berlin:20231128T200000
DTEND;TZID=Europe/Berlin:20231128T220000
DTSTAMP:20260422T110219
CREATED:20230830T121824Z
LAST-MODIFIED:20231117T102444Z
UID:10006225-1701201600-1701208800@www.khg-in-bayreuth.de
SUMMARY:KHG-Barabend: Länderabend Georgien // Country evening Georgia
DESCRIPTION:Wusstet Ihr\, dass Georgien eines der ältesten Schriften hat\, die tiefste Höhle der Welt und vielleicht die Wiege des Weines ist? Diese und viele andere interessanten Geschichten werdet Ihr an diesem Abend hören. Ihr dürft auch Süßigkeiten aus Georgien probieren und Eure Namen im georgischen Alphabet schreiben.\nHerzliche Einladung! \nDid you know that Georgia has one of the oldest scriptures\, the deepest cave in the world and is perhaps the cradle of wine? You will hear these and many other interesting stories on this evening. You will also be able to taste sweets from Georgia and write your names in the Georgian alphabet.\nYou are cordially invited!
URL:https://www.khg-in-bayreuth.de/event/khg-barabend-frauen-in-der-katholischen-kirche-women-in-the-catholic-church/
LOCATION:KHG Bayreuth\, Emil-Warburg-Weg 17\, KHG Bayreuth\, 95447\, Deutschland
END:VEVENT
END:VCALENDAR