BEGIN:VCALENDAR
VERSION:2.0
PRODID:-//KHG Bayreuth - ECPv6.15.3//NONSGML v1.0//EN
CALSCALE:GREGORIAN
METHOD:PUBLISH
X-ORIGINAL-URL:https://www.khg-in-bayreuth.de
X-WR-CALDESC:Veranstaltungen für KHG Bayreuth
REFRESH-INTERVAL;VALUE=DURATION:PT1H
X-Robots-Tag:noindex
X-PUBLISHED-TTL:PT1H
BEGIN:VTIMEZONE
TZID:Europe/Berlin
BEGIN:DAYLIGHT
TZOFFSETFROM:+0100
TZOFFSETTO:+0200
TZNAME:CEST
DTSTART:20240331T010000
END:DAYLIGHT
BEGIN:STANDARD
TZOFFSETFROM:+0200
TZOFFSETTO:+0100
TZNAME:CET
DTSTART:20241027T010000
END:STANDARD
END:VTIMEZONE
BEGIN:VEVENT
DTSTART;TZID=Europe/Berlin:20240109T200000
DTEND;TZID=Europe/Berlin:20240109T220000
DTSTAMP:20260422T034745
CREATED:20230901T065916Z
LAST-MODIFIED:20231215T111326Z
UID:10006231-1704830400-1704837600@www.khg-in-bayreuth.de
SUMMARY:KHG-Barabend: Winterfeuer vor der KHG // Winter fire in front of the KHG
DESCRIPTION:Wir beginnen das neue Jahr gemütlich mit einem Winterfeuer\, Stockbrot und Punsch. Herzliche Einladung! \nWe start the new year with a cozy winter fire\, stick bread and punch. A warm invitation!
URL:https://www.khg-in-bayreuth.de/event/khg-barabend-winterfeuer-winter-fire/
LOCATION:KHG Bayreuth\, Emil-Warburg-Weg 17\, KHG Bayreuth\, 95447\, Deutschland
END:VEVENT
END:VCALENDAR