BEGIN:VCALENDAR
VERSION:2.0
PRODID:-//KHG Bayreuth - ECPv6.15.3//NONSGML v1.0//EN
CALSCALE:GREGORIAN
METHOD:PUBLISH
X-ORIGINAL-URL:https://www.khg-in-bayreuth.de
X-WR-CALDESC:Veranstaltungen für KHG Bayreuth
REFRESH-INTERVAL;VALUE=DURATION:PT1H
X-Robots-Tag:noindex
X-PUBLISHED-TTL:PT1H
BEGIN:VTIMEZONE
TZID:Europe/Berlin
BEGIN:DAYLIGHT
TZOFFSETFROM:+0100
TZOFFSETTO:+0200
TZNAME:CEST
DTSTART:20240331T010000
END:DAYLIGHT
BEGIN:STANDARD
TZOFFSETFROM:+0200
TZOFFSETTO:+0100
TZNAME:CET
DTSTART:20241027T010000
END:STANDARD
END:VTIMEZONE
BEGIN:VEVENT
DTSTART;TZID=Europe/Berlin:20240123T190000
DTEND;TZID=Europe/Berlin:20240123T220000
DTSTAMP:20260422T034711
CREATED:20230906T064609Z
LAST-MODIFIED:20230906T071945Z
UID:10006234-1706036400-1706047200@www.khg-in-bayreuth.de
SUMMARY:KHG-Barabend: Planungsnacht // Planning Night
DESCRIPTION:Wir planen das Sommersemester 2024. Das KHG-Programm lebt von Euren Ideen und Eurer Kreativität – alle sind herzlich eingeladen\, mitzumachen! \nWe are planning the summer semester 2024. The KHG program lives on your ideas and creativity – all are welcome to join in!
URL:https://www.khg-in-bayreuth.de/event/khg-barabend-planungsnacht-planning-night-2/
LOCATION:KHG Bayreuth\, Emil-Warburg-Weg 17\, KHG Bayreuth\, 95447\, Deutschland
END:VEVENT
END:VCALENDAR