BEGIN:VCALENDAR
VERSION:2.0
PRODID:-//KHG Bayreuth - ECPv6.15.3//NONSGML v1.0//EN
CALSCALE:GREGORIAN
METHOD:PUBLISH
X-WR-CALNAME:KHG Bayreuth
X-ORIGINAL-URL:https://www.khg-in-bayreuth.de
X-WR-CALDESC:Veranstaltungen für KHG Bayreuth
REFRESH-INTERVAL;VALUE=DURATION:PT1H
X-Robots-Tag:noindex
X-PUBLISHED-TTL:PT1H
BEGIN:VTIMEZONE
TZID:Europe/Berlin
BEGIN:DAYLIGHT
TZOFFSETFROM:+0100
TZOFFSETTO:+0200
TZNAME:CEST
DTSTART:20240331T010000
END:DAYLIGHT
BEGIN:STANDARD
TZOFFSETFROM:+0200
TZOFFSETTO:+0100
TZNAME:CET
DTSTART:20241027T010000
END:STANDARD
END:VTIMEZONE
BEGIN:VEVENT
DTSTART;TZID=Europe/Berlin:20240206T200000
DTEND;TZID=Europe/Berlin:20240206T220000
DTSTAMP:20260422T014309
CREATED:20230906T064742Z
LAST-MODIFIED:20240124T113401Z
UID:10006235-1707249600-1707256800@www.khg-in-bayreuth.de
SUMMARY:KHG-Barabend: Die Sonne macht Chemie - Solare Energiespeicherung // The sun makes chemistry - solar energy storage
DESCRIPTION:Vortrags- und Gesprächsabend mit Prof. Dr. Roland Marschall\, Uni Bayreuth \nLecture and discussion evening with Prof. Dr. Roland Marschall\, University of Bayreuth
URL:https://www.khg-in-bayreuth.de/event/khg-barabend-chemische-experimente-chemistry-experiments/
LOCATION:KHG Bayreuth\, Emil-Warburg-Weg 17\, KHG Bayreuth\, 95447\, Deutschland
END:VEVENT
END:VCALENDAR