BEGIN:VCALENDAR
VERSION:2.0
PRODID:-//KHG Bayreuth - ECPv6.15.3//NONSGML v1.0//EN
CALSCALE:GREGORIAN
METHOD:PUBLISH
X-WR-CALNAME:KHG Bayreuth
X-ORIGINAL-URL:https://www.khg-in-bayreuth.de
X-WR-CALDESC:Veranstaltungen für KHG Bayreuth
REFRESH-INTERVAL;VALUE=DURATION:PT1H
X-Robots-Tag:noindex
X-PUBLISHED-TTL:PT1H
BEGIN:VTIMEZONE
TZID:Europe/Berlin
BEGIN:DAYLIGHT
TZOFFSETFROM:+0100
TZOFFSETTO:+0200
TZNAME:CEST
DTSTART:20240331T010000
END:DAYLIGHT
BEGIN:STANDARD
TZOFFSETFROM:+0200
TZOFFSETTO:+0100
TZNAME:CET
DTSTART:20241027T010000
END:STANDARD
END:VTIMEZONE
BEGIN:VEVENT
DTSTART;TZID=Europe/Berlin:20240416T200000
DTEND;TZID=Europe/Berlin:20240416T220000
DTSTAMP:20260421T221957
CREATED:20240308T102439Z
LAST-MODIFIED:20240327T140307Z
UID:10006745-1713297600-1713304800@www.khg-in-bayreuth.de
SUMMARY:Kreativabend und Spieleabend // Creative evening and games evening
DESCRIPTION:Wir basteln Origamiblumen\, Kreppblumen-Girlanden und Holzuntersetzer bzw. Mini-Blumenkästen und Spieleabend für Leute\, die nicht gerne basteln.\nUnkostenbeitrag für Kreativabend: 4 Euro \n-English version-\nWe make origami flowers\, crepe flower garlands and wooden coasters or mini flower boxes and games evening for people who don’t like crafting.\nContribution towards costs for creative evening: 4 euros
URL:https://www.khg-in-bayreuth.de/event/kreativ-und-spieleabend-creative-and-games-evening/
LOCATION:KHG Bayreuth\, Emil-Warburg-Weg 17\, KHG Bayreuth\, 95447\, Deutschland
END:VEVENT
END:VCALENDAR