BEGIN:VCALENDAR
VERSION:2.0
PRODID:-//KHG Bayreuth - ECPv6.15.3//NONSGML v1.0//EN
CALSCALE:GREGORIAN
METHOD:PUBLISH
X-ORIGINAL-URL:https://www.khg-in-bayreuth.de
X-WR-CALDESC:Veranstaltungen für KHG Bayreuth
REFRESH-INTERVAL;VALUE=DURATION:PT1H
X-Robots-Tag:noindex
X-PUBLISHED-TTL:PT1H
BEGIN:VTIMEZONE
TZID:Europe/Berlin
BEGIN:DAYLIGHT
TZOFFSETFROM:+0100
TZOFFSETTO:+0200
TZNAME:CEST
DTSTART:20240331T010000
END:DAYLIGHT
BEGIN:STANDARD
TZOFFSETFROM:+0200
TZOFFSETTO:+0100
TZNAME:CET
DTSTART:20241027T010000
END:STANDARD
END:VTIMEZONE
BEGIN:VEVENT
DTSTART;TZID=Europe/Berlin:20240419T190000
DTEND;TZID=Europe/Berlin:20240419T220000
DTSTAMP:20260421T222253
CREATED:20240308T102954Z
LAST-MODIFIED:20240313T094833Z
UID:10006746-1713553200-1713564000@www.khg-in-bayreuth.de
SUMMARY:Ökumenischer Semesteranfangsgottesdienst in der Stadtkirche mit dem Gospelchor und & Band // Ecumenical start-of-semester service in the town churchwith the gospel choir & band
DESCRIPTION:Anschl. Welcome Abend. Einladung zum entspannten Start ins neue Semester in den ESG-Räumen. Eingeladen sind alle Erstsemester und natürlich alle anderen Studierenden\, die wieder ins Semester starten. Wir stoßen auf das neue Semester an: Barbetrieb\, Kicker & Salon laden zu Gesprächen und zum Kennenlernen ein. Mit Pizza ist auch für das leibliche Wohl gesorgt. Bringt also gerne Appetit mit!  \n– English version –\nFollowed by a welcome evening. Invitation to a relaxed start to the new semester in the ESG rooms. All first semester students and of course all other students who are starting the semester again are invited. We toast to the new semester: Bar service\, table football & salon invite you to talk and get to know each other. Pizza is also provided for your physical well-being. So bring an appetite!
URL:https://www.khg-in-bayreuth.de/event/oekumeinscher-semesteranfangsgottesdienst-in-der-esg-mit-dem-gospelchor-ecumenical-start-of-semester-service-in-the-esg-with-the-gospel-choir/
LOCATION:KHG Bayreuth\, Emil-Warburg-Weg 17\, KHG Bayreuth\, 95447\, Deutschland
END:VEVENT
END:VCALENDAR