BEGIN:VCALENDAR
VERSION:2.0
PRODID:-//KHG Bayreuth - ECPv6.15.3//NONSGML v1.0//EN
CALSCALE:GREGORIAN
METHOD:PUBLISH
X-WR-CALNAME:KHG Bayreuth
X-ORIGINAL-URL:https://www.khg-in-bayreuth.de
X-WR-CALDESC:Veranstaltungen für KHG Bayreuth
REFRESH-INTERVAL;VALUE=DURATION:PT1H
X-Robots-Tag:noindex
X-PUBLISHED-TTL:PT1H
BEGIN:VTIMEZONE
TZID:Europe/Berlin
BEGIN:DAYLIGHT
TZOFFSETFROM:+0100
TZOFFSETTO:+0200
TZNAME:CEST
DTSTART:20240331T010000
END:DAYLIGHT
BEGIN:STANDARD
TZOFFSETFROM:+0200
TZOFFSETTO:+0100
TZNAME:CET
DTSTART:20241027T010000
END:STANDARD
END:VTIMEZONE
BEGIN:VEVENT
DTSTART;TZID=Europe/Berlin:20240504T150000
DTEND;TZID=Europe/Berlin:20240504T210000
DTSTAMP:20260421T222024
CREATED:20240405T073922Z
LAST-MODIFIED:20240405T074128Z
UID:10006884-1714834800-1714856400@www.khg-in-bayreuth.de
SUMMARY:Ehemaligentreffen von KHG und ESG // Alumni meeting of KHG and ESG
DESCRIPTION:Wir starten in der ESG mit einem gemeinsamen Kaffeetrinken von Ehemaligen und „aktiven ESG&KHGlern“. Nach einem Spaziergang über den Campus feiern wir eine ökumenische Andacht in der KHG und grillen gemeinsam. \n-English version-\nWe will start in the ESG with a joint coffee drink of alumni and “active ESG & KHGers”. After a walk through the campus we will celebrate an ecumenical prayer in the KHG and have a barbecue together.
URL:https://www.khg-in-bayreuth.de/event/ehemaligentreffen-von-khg-und-esg-alumni-meeting-of-khg-and-esg/
LOCATION:KHG Bayreuth\, Emil-Warburg-Weg 17\, KHG Bayreuth\, 95447\, Deutschland
END:VEVENT
END:VCALENDAR