BEGIN:VCALENDAR
VERSION:2.0
PRODID:-//KHG Bayreuth - ECPv6.15.3//NONSGML v1.0//EN
CALSCALE:GREGORIAN
METHOD:PUBLISH
X-ORIGINAL-URL:https://www.khg-in-bayreuth.de
X-WR-CALDESC:Veranstaltungen für KHG Bayreuth
REFRESH-INTERVAL;VALUE=DURATION:PT1H
X-Robots-Tag:noindex
X-PUBLISHED-TTL:PT1H
BEGIN:VTIMEZONE
TZID:Europe/Berlin
BEGIN:DAYLIGHT
TZOFFSETFROM:+0100
TZOFFSETTO:+0200
TZNAME:CEST
DTSTART:20240331T010000
END:DAYLIGHT
BEGIN:STANDARD
TZOFFSETFROM:+0200
TZOFFSETTO:+0100
TZNAME:CET
DTSTART:20241027T010000
END:STANDARD
END:VTIMEZONE
BEGIN:VEVENT
DTSTART;TZID=Europe/Berlin:20240507T200000
DTEND;TZID=Europe/Berlin:20240507T220000
DTSTAMP:20260421T204942
CREATED:20240311T141759Z
LAST-MODIFIED:20240410T085605Z
UID:10006819-1715112000-1715119200@www.khg-in-bayreuth.de
SUMMARY:ESG Abend: Aufbruch ins Ungewisse – Herausforderungen und Perspektiven für Menschen mit Migrationshintergrund // Heading into the unknown - challenges and prospects for people with a migration background
DESCRIPTION:Wir kommen ins Gespräch mit\n– Anna Westermann\, Flüchtlingsbeauftragte des Evang.-Luth. Kirchenkreises Bayreuth\n– Ibukun Koussemou\, Integrationsbeauftragter der Stadt Bayreuth (Projektleiter Hauptamtlicher Integrationslotse + Leiter der Erstaufnahmeeinrichtung + Stellv. Abteilungsleiter Integration\, Inklusion und Projekt)\n– Geflüchtete aus der Ukraine \nHerzlich willkommen zum gemeinsamen Kochen (ab 18 Uhr) und/oder gemeinsamem Essen (ab ca. 19 Uhr) mit Geflüchteten aus der Ukraine (Unkostenbeitrag 4 €\, um Anmeldung wird gebeten) \n-English version-\nWe get into conversation with\n– Anna Westermann\, Refugee Representative of the Evangelical Lutheran Church District of Bayreuth\n– Ibukun Koussemou\, Integration Officer of the City of Bayreuth (Project Manager Full-time Integration Guide + Head of the Initial Reception Center + Deputy Head of the Integration\, Inclusion and Project Department)\n– Refugees from the Ukraine \nWelcome to cook together (from 6 pm) and/or eat together (from approx. 7 pm) with refugees from Ukraine (contribution towards expenses €4\, please register)
URL:https://www.khg-in-bayreuth.de/event/esg-abend-aufbruch-ins-ungewisse-migrationsgeschichten-departure-into-the-unknown-migration-stories/
LOCATION:ESG Bayreuth\, Richard-Wagner-Straße 24\, Bayreuth\, Deutschland
END:VEVENT
END:VCALENDAR