BEGIN:VCALENDAR
VERSION:2.0
PRODID:-//KHG Bayreuth - ECPv6.15.3//NONSGML v1.0//EN
CALSCALE:GREGORIAN
METHOD:PUBLISH
X-ORIGINAL-URL:https://www.khg-in-bayreuth.de
X-WR-CALDESC:Veranstaltungen für KHG Bayreuth
REFRESH-INTERVAL;VALUE=DURATION:PT1H
X-Robots-Tag:noindex
X-PUBLISHED-TTL:PT1H
BEGIN:VTIMEZONE
TZID:Europe/Berlin
BEGIN:DAYLIGHT
TZOFFSETFROM:+0100
TZOFFSETTO:+0200
TZNAME:CEST
DTSTART:20240331T010000
END:DAYLIGHT
BEGIN:STANDARD
TZOFFSETFROM:+0200
TZOFFSETTO:+0100
TZNAME:CET
DTSTART:20241027T010000
END:STANDARD
END:VTIMEZONE
BEGIN:VEVENT
DTSTART;VALUE=DATE:20240508
DTEND;VALUE=DATE:20240513
DTSTAMP:20260421T205200
CREATED:20240112T111546Z
LAST-MODIFIED:20240112T111546Z
UID:10006738-1715126400-1715558399@www.khg-in-bayreuth.de
SUMMARY:Sächsische Schweiz - Erlebniswochenende // Saxonian Switzerland - Activity weekend
DESCRIPTION:Wir fahren in die Sächsische Schweiz! Wir nutzen das Brückentagswochenende über Christi Himmelfahrt für ein Wander- und Erlebniswochenende. Übernachten werden wir in einem Selbstversorgerhaus\, wo wir gemeinsam einkaufen und kochen. Die Übernachtung kostet 50 € pro Person. Rechnet für die Verpflegung mit Kosten von ca. 30 € pro Person\, plus eventuell einem Restaurantbesuch\, falls wir uns gemeinsam dafür entscheiden. Hinfahren werden wir mit dem Zug\, dafür braucht Ihr ein Deutschlandticket. Wir werden die wunderbare Felslandschaft der Sächsischen Schweiz mit Ausflügen und Wanderungen erkunden. Je nach Wetterlage können wir auch einen Ausflug nach Dresden unternehmen. Das genaue Programm entwickeln wir noch – gerne auch mit Euch zusammen. Damit wir planen können\, wäre es schön\, wenn Ihr Euch baldmöglichst anmeldet! Wir haben insgesamt 12 Plätze. \nBitte meldet Euch per E-Mail an khg@uni-bayreuth.de oder direkt bei Raphaela im Büro an. Eure Anmeldung ist gültig\, sobald Ihr den Unkostenbeitrag von 50 € bezahlt habt. Wir freuen uns auf eine großartige Zeit mit Euch! \n– English version – \nWe are travelling to Saxon Switzerland! We are using the bridge day weekend over Ascension Day for a hiking and adventure weekend. We will spend the night in a self-catering house where we will shop and cook together. The overnight stay costs €50 per person. You can expect to pay around €30 per person for meals\, plus possibly a visit to a restaurant if we decide to go out together. We will be travelling there by train\, for which you will need a Germany ticket. We will explore the wonderful rocky landscape of Saxon Switzerland with excursions and hikes. Depending on the weather\, we may also take a trip to Dresden. We are still developing the exact programme – we would be happy to work with you. So that we can plan\, it would be nice if you could register as soon as possible! We have a total of 12 places. \nPlease register by e-mail to khg@uni-bayreuth.de or directly with Raphaela in the office. Your registration is valid as soon as you have paid the contribution of 50 €.\nWe’re looking forward to a wonderful time with you!
URL:https://www.khg-in-bayreuth.de/event/saechsische-schweiz-erlebniswochenende-saxonian-switzerland-activity-weekend/
LOCATION:KHG Bayreuth\, Emil-Warburg-Weg 17\, KHG Bayreuth\, 95447\, Deutschland
END:VEVENT
BEGIN:VEVENT
DTSTART;TZID=Europe/Berlin:20240508T080000
DTEND;TZID=Europe/Berlin:20240512T170000
DTSTAMP:20260421T205200
CREATED:20240405T074438Z
LAST-MODIFIED:20240405T074449Z
UID:10006885-1715155200-1715533200@www.khg-in-bayreuth.de
SUMMARY:Erlebnisfahrt in die Sächsische Schweiz // Adventure trip to the Sächsische Schweiz
DESCRIPTION:Anmeldung & Infos unter khg@uni-bayreuth.de
URL:https://www.khg-in-bayreuth.de/event/erlebnisfahrt-in-die-saechsische-schweiz-adventure-trip-to-the-saechsische-schweiz/
LOCATION:KHG Bayreuth\, Emil-Warburg-Weg 17\, KHG Bayreuth\, 95447\, Deutschland
END:VEVENT
BEGIN:VEVENT
DTSTART;TZID=Europe/Berlin:20240509T193000
DTEND;TZID=Europe/Berlin:20240509T210000
DTSTAMP:20260421T205200
CREATED:20240422T115337Z
LAST-MODIFIED:20240422T115350Z
UID:10007181-1715283000-1715288400@www.khg-in-bayreuth.de
SUMMARY:Swahili Chor Bayreuth // Suahili Choir
DESCRIPTION:Jeden Donnerstag probt unser Swahili-Chor afrikanische Lieder in der KHG. Neue Sänger*innen sind jederzeit herzlich willkommen! \n-English version-\nEvery Thursday\, our Suahili choir rehearses African songs in the KHG. New singers are always welcome!
URL:https://www.khg-in-bayreuth.de/event/swahili-chor-bayreuth-suahili-choir-4/2024-05-09/
LOCATION:KHG Bayreuth\, Emil-Warburg-Weg 17\, KHG Bayreuth\, 95447\, Deutschland
END:VEVENT
END:VCALENDAR