BEGIN:VCALENDAR
VERSION:2.0
PRODID:-//KHG Bayreuth - ECPv6.15.3//NONSGML v1.0//EN
CALSCALE:GREGORIAN
METHOD:PUBLISH
X-WR-CALNAME:KHG Bayreuth
X-ORIGINAL-URL:https://www.khg-in-bayreuth.de
X-WR-CALDESC:Veranstaltungen für KHG Bayreuth
REFRESH-INTERVAL;VALUE=DURATION:PT1H
X-Robots-Tag:noindex
X-PUBLISHED-TTL:PT1H
BEGIN:VTIMEZONE
TZID:Europe/Berlin
BEGIN:DAYLIGHT
TZOFFSETFROM:+0100
TZOFFSETTO:+0200
TZNAME:CEST
DTSTART:20240331T010000
END:DAYLIGHT
BEGIN:STANDARD
TZOFFSETFROM:+0200
TZOFFSETTO:+0100
TZNAME:CET
DTSTART:20241027T010000
END:STANDARD
END:VTIMEZONE
BEGIN:VEVENT
DTSTART;TZID=Europe/Berlin:20240604T200000
DTEND;TZID=Europe/Berlin:20240604T220000
DTSTAMP:20260421T190351
CREATED:20240405T065233Z
LAST-MODIFIED:20240405T080400Z
UID:10006882-1717531200-1717538400@www.khg-in-bayreuth.de
SUMMARY:ESG Abend: Geschlecht und Sexualität in der Bibel // Gender and sexuality in the Bible
DESCRIPTION:„Biblische Aussagen zum Thema (Homo-)Sexualität erregen bis heute die Gemüter. Leidenschaftlich werden mit Bezug auf die Bibel Forderungen erhoben\, Urteile gefällt\, Normen begründet. Zu den Themen Körperlichkeit und Sexualität halten die biblischen Diskurse aber viel mehr bereit als simple Wahrheiten.\nAnlässlich der Pride Week wollen wir uns mit dem Thema auseinandersetzen. Dazu hören wir einen Impulsvortrag von Dr. Olaf Rölver\, Institut für katholische Theologie der Universität Köln\, und kommen darüber ins Gespräch. Herzlich willkommen!“\nReferent: Dr. Olaf Rölver\, Universität Köln\nKoop.: ESG und AK Queer \n-English version- \n“Biblical statements on the subject of (homo)sexuality still stir up emotions today. Passionate demands are made with reference to the Bible\, judgments are made\, norms are justified. However\, the biblical discourses on physicality and sexuality have much more to offer than simple truths.\nOn the occasion of Pride Week\, we want to explore this topic. We will listen to a keynote speech by Dr. Olaf Rölver\, Institute for Catholic Theology at the University of Cologne\, and discuss the topic. You are very welcome!”\nSpeaker: Dr. Olaf Rölver\, University of Cologne\nCo-organized by: ESG and AK Queer
URL:https://www.khg-in-bayreuth.de/event/geschlecht-und-sexualitaet-in-der-bibel-gender-and-sexuality-in-the-bible/
LOCATION:ESG Bayreuth\, Richard-Wagner-Straße 24\, Bayreuth\, Deutschland
END:VEVENT
END:VCALENDAR