BEGIN:VCALENDAR
VERSION:2.0
PRODID:-//KHG Bayreuth - ECPv6.15.3//NONSGML v1.0//EN
CALSCALE:GREGORIAN
METHOD:PUBLISH
X-WR-CALNAME:KHG Bayreuth
X-ORIGINAL-URL:https://www.khg-in-bayreuth.de
X-WR-CALDESC:Veranstaltungen für KHG Bayreuth
REFRESH-INTERVAL;VALUE=DURATION:PT1H
X-Robots-Tag:noindex
X-PUBLISHED-TTL:PT1H
BEGIN:VTIMEZONE
TZID:Europe/Berlin
BEGIN:DAYLIGHT
TZOFFSETFROM:+0100
TZOFFSETTO:+0200
TZNAME:CEST
DTSTART:20240331T010000
END:DAYLIGHT
BEGIN:STANDARD
TZOFFSETFROM:+0200
TZOFFSETTO:+0100
TZNAME:CET
DTSTART:20241027T010000
END:STANDARD
END:VTIMEZONE
BEGIN:VEVENT
DTSTART;TZID=Europe/Berlin:20240606T190000
DTEND;TZID=Europe/Berlin:20240606T220000
DTSTAMP:20260421T191855
CREATED:20240410T091707Z
LAST-MODIFIED:20240410T092143Z
UID:10006888-1717700400-1717711200@www.khg-in-bayreuth.de
SUMMARY:Deutschlandweites Pub Quiz der Hochschulgmeinden // Germany-wide Pub Quiz of the university communities
DESCRIPTION:Wir treten im Online-Quizwettstreit gegen andere Hochschulgemeinden an. Kommt vorbei und helft uns\, zu gewinnen! \n-English version-\nWe compete against other university communities in an online quiz competition. Come along and help us win!
URL:https://www.khg-in-bayreuth.de/event/deutschlandweites-pub-quiz-der-hochschulgmeinden-germany-wide-pub-quiz-of-the-university-communities/
LOCATION:KHG Bayreuth\, Emil-Warburg-Weg 17\, KHG Bayreuth\, 95447\, Deutschland
END:VEVENT
BEGIN:VEVENT
DTSTART;TZID=Europe/Berlin:20240606T193000
DTEND;TZID=Europe/Berlin:20240606T210000
DTSTAMP:20260421T191855
CREATED:20240422T115337Z
LAST-MODIFIED:20240422T115350Z
UID:10007185-1717702200-1717707600@www.khg-in-bayreuth.de
SUMMARY:Swahili Chor Bayreuth // Suahili Choir
DESCRIPTION:Jeden Donnerstag probt unser Swahili-Chor afrikanische Lieder in der KHG. Neue Sänger*innen sind jederzeit herzlich willkommen! \n-English version-\nEvery Thursday\, our Suahili choir rehearses African songs in the KHG. New singers are always welcome!
URL:https://www.khg-in-bayreuth.de/event/swahili-chor-bayreuth-suahili-choir-4/2024-06-06/
LOCATION:KHG Bayreuth\, Emil-Warburg-Weg 17\, KHG Bayreuth\, 95447\, Deutschland
END:VEVENT
END:VCALENDAR