BEGIN:VCALENDAR
VERSION:2.0
PRODID:-//KHG Bayreuth - ECPv6.15.3//NONSGML v1.0//EN
CALSCALE:GREGORIAN
METHOD:PUBLISH
X-WR-CALNAME:KHG Bayreuth
X-ORIGINAL-URL:https://www.khg-in-bayreuth.de
X-WR-CALDESC:Veranstaltungen für KHG Bayreuth
REFRESH-INTERVAL;VALUE=DURATION:PT1H
X-Robots-Tag:noindex
X-PUBLISHED-TTL:PT1H
BEGIN:VTIMEZONE
TZID:Europe/Berlin
BEGIN:DAYLIGHT
TZOFFSETFROM:+0100
TZOFFSETTO:+0200
TZNAME:CEST
DTSTART:20240331T010000
END:DAYLIGHT
BEGIN:STANDARD
TZOFFSETFROM:+0200
TZOFFSETTO:+0100
TZNAME:CET
DTSTART:20241027T010000
END:STANDARD
END:VTIMEZONE
BEGIN:VEVENT
DTSTART;TZID=Europe/Berlin:20240611T200000
DTEND;TZID=Europe/Berlin:20240611T220000
DTSTAMP:20260421T190458
CREATED:20240410T093227Z
LAST-MODIFIED:20240527T123510Z
UID:10006891-1718136000-1718143200@www.khg-in-bayreuth.de
SUMMARY:KHG-Barabend: Lagerfeuerabend // Campfire evening
DESCRIPTION:Gemütlicher Abend am Lagerfeuer vor der KHG. Herzliche Einladung zu Gesprächen\, Liedern und Stockbrot. \n-English version- \nCozy evening around the campfire in front of the KHG. Cordial invitation to conversations\, songs and bread on a stick.
URL:https://www.khg-in-bayreuth.de/event/khg-barabend-lagerfeuerabend-campfire-evening/
LOCATION:KHG Bayreuth\, Emil-Warburg-Weg 17\, KHG Bayreuth\, 95447\, Deutschland
END:VEVENT
END:VCALENDAR