BEGIN:VCALENDAR
VERSION:2.0
PRODID:-//KHG Bayreuth - ECPv6.15.3//NONSGML v1.0//EN
CALSCALE:GREGORIAN
METHOD:PUBLISH
X-ORIGINAL-URL:https://www.khg-in-bayreuth.de
X-WR-CALDESC:Veranstaltungen für KHG Bayreuth
REFRESH-INTERVAL;VALUE=DURATION:PT1H
X-Robots-Tag:noindex
X-PUBLISHED-TTL:PT1H
BEGIN:VTIMEZONE
TZID:Europe/Berlin
BEGIN:DAYLIGHT
TZOFFSETFROM:+0100
TZOFFSETTO:+0200
TZNAME:CEST
DTSTART:20240331T010000
END:DAYLIGHT
BEGIN:STANDARD
TZOFFSETFROM:+0200
TZOFFSETTO:+0100
TZNAME:CET
DTSTART:20241027T010000
END:STANDARD
END:VTIMEZONE
BEGIN:VEVENT
DTSTART;TZID=Europe/Berlin:20240618T200000
DTEND;TZID=Europe/Berlin:20240618T220000
DTSTAMP:20260421T190626
CREATED:20240410T093515Z
LAST-MODIFIED:20240612T064941Z
UID:10006892-1718740800-1718748000@www.khg-in-bayreuth.de
SUMMARY:ESG Abend: Brettspielabend // Board game evening
DESCRIPTION:Für alle\, die gerne mal wieder so richtig Lust auf einen Spieleabend haben\, kommt vorbei! Wir haben Zeit für Begegnung und Gespräche oder für Aktionen\, auf die wir gerade Lust haben…\nAb 18 Uhr bist Du eingeladen mitzukochen und ab 19 Uhr werden wir gemeinsam essen.\nIhr seid natürlich wie immer auch spontan willkommen\, aber für unsere Essenskalkulation wäre es sehr hilfreich\, wenn Ihr Euch vorher anmelden könntet. \n-English version- \nFor all those who really fancy a games evening again\, come along! We have time to meet and talk or to do whatever we feel like doing…\nFrom 6 pm you are invited to join in the cooking and from 7 pm we will eat together.\nAs always\, you are welcome to join us spontaneously\, but it would be very helpful for our food calculation if you could register in advance.
URL:https://www.khg-in-bayreuth.de/event/esg-abend-lass-deiner-kreavitaet-ihren-lauf-diy-abend-keramikmalerei-let-your-creativity-run-wild-diy-evening-ceramic-painting/
LOCATION:ESG Bayreuth\, Richard-Wagner-Straße 24\, Bayreuth\, Deutschland
END:VEVENT
END:VCALENDAR