BEGIN:VCALENDAR
VERSION:2.0
PRODID:-//KHG Bayreuth - ECPv6.15.3//NONSGML v1.0//EN
CALSCALE:GREGORIAN
METHOD:PUBLISH
X-WR-CALNAME:KHG Bayreuth
X-ORIGINAL-URL:https://www.khg-in-bayreuth.de
X-WR-CALDESC:Veranstaltungen für KHG Bayreuth
REFRESH-INTERVAL;VALUE=DURATION:PT1H
X-Robots-Tag:noindex
X-PUBLISHED-TTL:PT1H
BEGIN:VTIMEZONE
TZID:Europe/Berlin
BEGIN:DAYLIGHT
TZOFFSETFROM:+0100
TZOFFSETTO:+0200
TZNAME:CEST
DTSTART:20240331T010000
END:DAYLIGHT
BEGIN:STANDARD
TZOFFSETFROM:+0200
TZOFFSETTO:+0100
TZNAME:CET
DTSTART:20241027T010000
END:STANDARD
END:VTIMEZONE
BEGIN:VEVENT
DTSTART;TZID=Europe/Berlin:20240625T200000
DTEND;TZID=Europe/Berlin:20240625T220000
DTSTAMP:20260421T190416
CREATED:20240410T094954Z
LAST-MODIFIED:20240605T112859Z
UID:10006893-1719345600-1719352800@www.khg-in-bayreuth.de
SUMMARY:KHG-Barabend: Zeitzeugengespräch: Kirche in der DDR // Contemporary witness interview: Church in the DDR
DESCRIPTION:Gesprächsabend mit Frau Maria Ullmann\, ehemalige katholische Gemeindereferentin zur DDR Zeit. \n-English version- \nEvening talk with Mrs. Maria Ullmann\, former Catholic parish secretary during the GDR era. \n 
URL:https://www.khg-in-bayreuth.de/event/khg-barabend-zeitgespraech-kirche-in-der-ddr-time-talk-church-in-the-ddr/
LOCATION:KHG Bayreuth\, Emil-Warburg-Weg 17\, KHG Bayreuth\, 95447\, Deutschland
END:VEVENT
END:VCALENDAR