BEGIN:VCALENDAR
VERSION:2.0
PRODID:-//KHG Bayreuth - ECPv6.15.3//NONSGML v1.0//EN
CALSCALE:GREGORIAN
METHOD:PUBLISH
X-ORIGINAL-URL:https://www.khg-in-bayreuth.de
X-WR-CALDESC:Veranstaltungen für KHG Bayreuth
REFRESH-INTERVAL;VALUE=DURATION:PT1H
X-Robots-Tag:noindex
X-PUBLISHED-TTL:PT1H
BEGIN:VTIMEZONE
TZID:Europe/Berlin
BEGIN:DAYLIGHT
TZOFFSETFROM:+0100
TZOFFSETTO:+0200
TZNAME:CEST
DTSTART:20240331T010000
END:DAYLIGHT
BEGIN:STANDARD
TZOFFSETFROM:+0200
TZOFFSETTO:+0100
TZNAME:CET
DTSTART:20241027T010000
END:STANDARD
END:VTIMEZONE
BEGIN:VEVENT
DTSTART;TZID=Europe/Berlin:20240716T200000
DTEND;TZID=Europe/Berlin:20240716T220000
DTSTAMP:20260421T173220
CREATED:20240410T100711Z
LAST-MODIFIED:20240705T094208Z
UID:10006897-1721160000-1721167200@www.khg-in-bayreuth.de
SUMMARY:Picknick am Uniteich - interkulturell\, kulinarisch\, sweet //  Picnic at the university pond - intercultural\, culinary\, sweet
DESCRIPTION:Nähere Infos folgen.\nMore info will follow.
URL:https://www.khg-in-bayreuth.de/event/gemeinsames-picknick-im-park-interkulturell-kulinarisch-sweet-joint-picnic-in-the-park-intercultural-culinary-sweet/
LOCATION:Hofgarten\, Ludwigstraße 21\, Bayreuth\, 95444\, Deutschland
END:VEVENT
END:VCALENDAR