BEGIN:VCALENDAR
VERSION:2.0
PRODID:-//KHG Bayreuth - ECPv6.15.3//NONSGML v1.0//EN
CALSCALE:GREGORIAN
METHOD:PUBLISH
X-WR-CALNAME:KHG Bayreuth
X-ORIGINAL-URL:https://www.khg-in-bayreuth.de
X-WR-CALDESC:Veranstaltungen für KHG Bayreuth
REFRESH-INTERVAL;VALUE=DURATION:PT1H
X-Robots-Tag:noindex
X-PUBLISHED-TTL:PT1H
BEGIN:VTIMEZONE
TZID:Europe/Berlin
BEGIN:DAYLIGHT
TZOFFSETFROM:+0100
TZOFFSETTO:+0200
TZNAME:CEST
DTSTART:20240331T010000
END:DAYLIGHT
BEGIN:STANDARD
TZOFFSETFROM:+0200
TZOFFSETTO:+0100
TZNAME:CET
DTSTART:20241027T010000
END:STANDARD
END:VTIMEZONE
BEGIN:VEVENT
DTSTART;TZID=Europe/Berlin:20241112T193000
DTEND;TZID=Europe/Berlin:20241112T200000
DTSTAMP:20260421T171439
CREATED:20241023T113354Z
LAST-MODIFIED:20241023T113358Z
UID:10007469-1731439800-1731441600@www.khg-in-bayreuth.de
SUMMARY:Abendandacht // Evening prayer
DESCRIPTION:Abendandacht in der KHG – vierzehntägig vor den KHG-Gemeindeabenden. \nEvening prayer in the KHG – fortnightly before the KHG community evenings.
URL:https://www.khg-in-bayreuth.de/event/abendandacht-evening-prayer-2/
LOCATION:KHG Bayreuth\, Emil-Warburg-Weg 17\, KHG Bayreuth\, 95447\, Deutschland
END:VEVENT
BEGIN:VEVENT
DTSTART;TZID=Europe/Berlin:20241112T200000
DTEND;TZID=Europe/Berlin:20241112T220000
DTSTAMP:20260421T171439
CREATED:20240925T090756Z
LAST-MODIFIED:20241106T101454Z
UID:10007397-1731441600-1731448800@www.khg-in-bayreuth.de
SUMMARY:Laternenbasteln in der KHG // Lantern making in the KHG
DESCRIPTION:Entweder mit Vorlage und Muster oder mit der Möglichkeit\, seiner Kreativität freien Lauf zu lassen. Materialkosten: 3 Euro\n–\nEither with a template and pattern or with the opportunity to give free rein to your creativity. Material costs: 3 Euro
URL:https://www.khg-in-bayreuth.de/event/laternen-basteln-making-lanterns/
END:VEVENT
END:VCALENDAR