BEGIN:VCALENDAR
VERSION:2.0
PRODID:-//KHG Bayreuth - ECPv6.15.3//NONSGML v1.0//EN
CALSCALE:GREGORIAN
METHOD:PUBLISH
X-WR-CALNAME:KHG Bayreuth
X-ORIGINAL-URL:https://www.khg-in-bayreuth.de
X-WR-CALDESC:Veranstaltungen für KHG Bayreuth
REFRESH-INTERVAL;VALUE=DURATION:PT1H
X-Robots-Tag:noindex
X-PUBLISHED-TTL:PT1H
BEGIN:VTIMEZONE
TZID:Europe/Berlin
BEGIN:DAYLIGHT
TZOFFSETFROM:+0100
TZOFFSETTO:+0200
TZNAME:CEST
DTSTART:20240331T010000
END:DAYLIGHT
BEGIN:STANDARD
TZOFFSETFROM:+0200
TZOFFSETTO:+0100
TZNAME:CET
DTSTART:20241027T010000
END:STANDARD
END:VTIMEZONE
BEGIN:VEVENT
DTSTART;TZID=Europe/Berlin:20241115T140000
DTEND;TZID=Europe/Berlin:20241115T170000
DTSTAMP:20260421T171500
CREATED:20240925T091128Z
LAST-MODIFIED:20241108T095614Z
UID:10007398-1731679200-1731690000@www.khg-in-bayreuth.de
SUMMARY:Töpferkurs im Töpfermuseum in Thurnau // Pottery course in the pottery museum in Thurnau
DESCRIPTION:– English version below – \nWusstest Du\, dass auf halber Strecke zwischen Bayreuth und Kulmbach die Töpferstadt Thurnau liegt? Dorthin fahren wir – und gestalten unsere eigenen Ideen mit dem wunderbaren Werkstoff Ton! \nBei einem geführten Rundgang durch das Töpfermuseum lernen wir die Geschichte der Töpferei in Thurnau kennen. Anschließend werden wir in der Töpferwerkstatt des Museums kreativ. Wer das Museum schon kennt\, kann auch schon früher mit dem Töpfern beginnen. \nBeginn: 14.30 Uhr – Ende:17.00 Uhr \nIm Anschluss seid Ihr noch bei ESG-Pfarrerin Dr. Jennifer Ebert\, die in Thurnau wohnt\, zum Kaffee eingeladen! \nUnkostenbeitrag: 15 € plus 5 € pro getöpfertes Objekt \nDie Kosten für den Töpferkurs sind in bar im Töpfermuseum zu begleichen. Für das Arbeiten mit Ton wird eine “strapazierfähige” Kleidung empfohlen. \nWir bitten um Anmeldung per e-Mail an khg@uni-bayreuth.de bis 08.11.2024\,12 Uhr\, unter khg@uni-bayreuth.de.\n \nBitte gib bei der Anmeldung an\, ob Du eine Mitfahrgelegenheit anbieten kannst oder suchst. Falls wir nicht genügend Autos haben\, fahren wir mit dem Bus (13.00 Uhr ab Kreuzsteinbad). \n  \n– English version – \nDid you know that the pottery town of Thurnau is situated halfway between Bayreuth and Kulmbach? Let’s go there – and create our own ideas with the wonderful material clay! \nDuring a guided tour of the pottery museum\, we will learn about the history of pottery in Thurnau. Afterwards\, we’ll get creative in the museum’s pottery workshop. If you are already familiar with the museum\, you can start making pottery earlier. \nStart: 2.30 pm – End: 5.00 pm \nAfterwards\, you are cordially invited for a coffee at the house of ESG pastor Dr. Jennifer Ebert\, who lives in Thurnau. \nContribution towards costs: €15 plus €5 per potted object \nThe costs for the pottery course are to be paid in cash at the pottery museum. We recommend ‘hard-wearing’ clothing for working with clay. \nPlease register by e-mail by 08.11.2024\, 12 noon\, to khg@uni-bayreuth.de. \nWhen registering\, please indicate whether you can offer or are looking for a lift. If we do not have enough cars\, we will travel by bus (1.00 pm from Kreuzsteinbad). \n  \n 
URL:https://www.khg-in-bayreuth.de/event/toepferkurs-in-thurnau-pottery-course-in-thurnau/
END:VEVENT
END:VCALENDAR