BEGIN:VCALENDAR
VERSION:2.0
PRODID:-//KHG Bayreuth - ECPv6.15.3//NONSGML v1.0//EN
CALSCALE:GREGORIAN
METHOD:PUBLISH
X-WR-CALNAME:KHG Bayreuth
X-ORIGINAL-URL:https://www.khg-in-bayreuth.de
X-WR-CALDESC:Veranstaltungen für KHG Bayreuth
REFRESH-INTERVAL;VALUE=DURATION:PT1H
X-Robots-Tag:noindex
X-PUBLISHED-TTL:PT1H
BEGIN:VTIMEZONE
TZID:Europe/Berlin
BEGIN:DAYLIGHT
TZOFFSETFROM:+0100
TZOFFSETTO:+0200
TZNAME:CEST
DTSTART:20240331T010000
END:DAYLIGHT
BEGIN:STANDARD
TZOFFSETFROM:+0200
TZOFFSETTO:+0100
TZNAME:CET
DTSTART:20241027T010000
END:STANDARD
END:VTIMEZONE
BEGIN:VEVENT
DTSTART;TZID=Europe/Berlin:20241119T200000
DTEND;TZID=Europe/Berlin:20241119T220000
DTSTAMP:20260421T173048
CREATED:20240925T091422Z
LAST-MODIFIED:20241106T130920Z
UID:10007399-1732046400-1732053600@www.khg-in-bayreuth.de
SUMMARY:Unterwegs mit den SDGs: Wir gestalten die Zukunft! // On the road with the SDGs: We shape the future!
DESCRIPTION:Ein interaktiver Abend über Fairen Handel\, Frauenförderung\, Mikrofinanz\, nachhaltige Landwirtschaft und Wertschöpfungsketten – mit Referenten-Team von Oikocredit Förderkreis Bayern. Und wer will\, kann sich schon um 18 Uhr anschließen\, wenn wir gemeinsam kochen und uns für den Abend vorbereiten!\n–\nAn interactive evening about fair trade\, women’s empowerment\, microfinance\, sustainable agriculture and value chains – with a team of speakers from Oikocredit Förderkreis Bayern. And if you want\, you can join us at 6 pm when we cook together and prepare for the evening!
URL:https://www.khg-in-bayreuth.de/event/unterwegs-mit-den-sdgs-wir-gestalten-die-zukunft-on-the-road-with-the-sdgs-we-shape-the-future/
LOCATION:ESG Bayreuth\, Richard-Wagner-Straße 24\, Bayreuth\, Deutschland
END:VEVENT
END:VCALENDAR