BEGIN:VCALENDAR
VERSION:2.0
PRODID:-//KHG Bayreuth - ECPv6.15.3//NONSGML v1.0//EN
CALSCALE:GREGORIAN
METHOD:PUBLISH
X-WR-CALNAME:KHG Bayreuth
X-ORIGINAL-URL:https://www.khg-in-bayreuth.de
X-WR-CALDESC:Veranstaltungen für KHG Bayreuth
REFRESH-INTERVAL;VALUE=DURATION:PT1H
X-Robots-Tag:noindex
X-PUBLISHED-TTL:PT1H
BEGIN:VTIMEZONE
TZID:Europe/Berlin
BEGIN:DAYLIGHT
TZOFFSETFROM:+0100
TZOFFSETTO:+0200
TZNAME:CEST
DTSTART:20240331T010000
END:DAYLIGHT
BEGIN:STANDARD
TZOFFSETFROM:+0200
TZOFFSETTO:+0100
TZNAME:CET
DTSTART:20241027T010000
END:STANDARD
END:VTIMEZONE
BEGIN:VEVENT
DTSTART;TZID=Europe/Berlin:20241124T111500
DTEND;TZID=Europe/Berlin:20241124T121500
DTSTAMP:20260421T171359
CREATED:20240911T092031Z
LAST-MODIFIED:20240923T061337Z
UID:10007393-1732446900-1732450500@www.khg-in-bayreuth.de
SUMMARY:Ev. Predigtgottesdienst - "Jünger auf der Kanzel" // Protestant sermon service - "Disciples in the pulpit"
DESCRIPTION:Spitalkirche: Prediger: Studienrat Philipp Himmelein (Gymnasium Christian Ernestinum)\n–\nSpitalkirche:  Preacher: Student councilor Philipp Himmelein (Gymnasium Christian Ernestinum)
URL:https://www.khg-in-bayreuth.de/event/juenger-auf-der-kanzel-disciples-in-the-pulpit-2/
LOCATION:Spitalkirche\, Spitalgasse 15\, Kulmbach\, Bayern\, 95326
END:VEVENT
END:VCALENDAR