BEGIN:VCALENDAR
VERSION:2.0
PRODID:-//KHG Bayreuth - ECPv6.15.3//NONSGML v1.0//EN
CALSCALE:GREGORIAN
METHOD:PUBLISH
X-WR-CALNAME:KHG Bayreuth
X-ORIGINAL-URL:https://www.khg-in-bayreuth.de
X-WR-CALDESC:Veranstaltungen für KHG Bayreuth
REFRESH-INTERVAL;VALUE=DURATION:PT1H
X-Robots-Tag:noindex
X-PUBLISHED-TTL:PT1H
BEGIN:VTIMEZONE
TZID:Europe/Berlin
BEGIN:DAYLIGHT
TZOFFSETFROM:+0100
TZOFFSETTO:+0200
TZNAME:CEST
DTSTART:20240331T010000
END:DAYLIGHT
BEGIN:STANDARD
TZOFFSETFROM:+0200
TZOFFSETTO:+0100
TZNAME:CET
DTSTART:20241027T010000
END:STANDARD
END:VTIMEZONE
BEGIN:VEVENT
DTSTART;TZID=Europe/Berlin:20241126T183000
DTEND;TZID=Europe/Berlin:20241126T200000
DTSTAMP:20260421T171439
CREATED:20241023T114109Z
LAST-MODIFIED:20241023T114113Z
UID:10007472-1732645800-1732651200@www.khg-in-bayreuth.de
SUMMARY:Tischmesse // Table Mass
DESCRIPTION:Tischmesse im Saal mit Domkapitular Dr. Heinrich Hohl.\n–\nTable mass in the hall with Canon Dr. Heinrich Hohl.
URL:https://www.khg-in-bayreuth.de/event/tischmesse-table-mass/
LOCATION:KHG Bayreuth\, Emil-Warburg-Weg 17\, KHG Bayreuth\, 95447\, Deutschland
END:VEVENT
BEGIN:VEVENT
DTSTART;TZID=Europe/Berlin:20241126T200000
DTEND;TZID=Europe/Berlin:20241126T220000
DTSTAMP:20260421T171439
CREATED:20240925T092246Z
LAST-MODIFIED:20241106T101852Z
UID:10007403-1732651200-1732658400@www.khg-in-bayreuth.de
SUMMARY:Adventskranzbinden // Advent wreath making
DESCRIPTION:Anmeldung bis 21.11.2024; Unkostenbeitrag: 5 Euro\n–\nRegistration until 21.11.2024; contribution towards expenses: 5 euros
URL:https://www.khg-in-bayreuth.de/event/adventskranzbinden-advent-wreath-making-2/
END:VEVENT
END:VCALENDAR