BEGIN:VCALENDAR
VERSION:2.0
PRODID:-//KHG Bayreuth - ECPv6.15.3//NONSGML v1.0//EN
CALSCALE:GREGORIAN
METHOD:PUBLISH
X-ORIGINAL-URL:https://www.khg-in-bayreuth.de
X-WR-CALDESC:Veranstaltungen für KHG Bayreuth
REFRESH-INTERVAL;VALUE=DURATION:PT1H
X-Robots-Tag:noindex
X-PUBLISHED-TTL:PT1H
BEGIN:VTIMEZONE
TZID:Europe/Berlin
BEGIN:DAYLIGHT
TZOFFSETFROM:+0100
TZOFFSETTO:+0200
TZNAME:CEST
DTSTART:20240331T010000
END:DAYLIGHT
BEGIN:STANDARD
TZOFFSETFROM:+0200
TZOFFSETTO:+0100
TZNAME:CET
DTSTART:20241027T010000
END:STANDARD
END:VTIMEZONE
BEGIN:VEVENT
DTSTART;TZID=Europe/Berlin:20241128T193000
DTEND;TZID=Europe/Berlin:20241128T210000
DTSTAMP:20260421T170131
CREATED:20241023T121250Z
LAST-MODIFIED:20241023T121258Z
UID:10007519-1732822200-1732827600@www.khg-in-bayreuth.de
SUMMARY:Swahili Chor Bayreuth // Suahili Choir
DESCRIPTION:Jeden Donnerstag probt unser Swahili-Chor afrikanische Lieder in der KHG. Neue Sänger*innen sind jederzeit herzlich willkommen!\n–\nEvery Thursday\, our Suahili choir rehearses African songs in the KHG. New singers are always welcome!
URL:https://www.khg-in-bayreuth.de/event/swahili-chor-bayreuth-suahili-choir-5/2024-11-28/
LOCATION:KHG Bayreuth\, Emil-Warburg-Weg 17\, KHG Bayreuth\, 95447\, Deutschland
END:VEVENT
END:VCALENDAR