BEGIN:VCALENDAR
VERSION:2.0
PRODID:-//KHG Bayreuth - ECPv6.15.3//NONSGML v1.0//EN
CALSCALE:GREGORIAN
METHOD:PUBLISH
X-WR-CALNAME:KHG Bayreuth
X-ORIGINAL-URL:https://www.khg-in-bayreuth.de
X-WR-CALDESC:Veranstaltungen für KHG Bayreuth
REFRESH-INTERVAL;VALUE=DURATION:PT1H
X-Robots-Tag:noindex
X-PUBLISHED-TTL:PT1H
BEGIN:VTIMEZONE
TZID:Europe/Berlin
BEGIN:DAYLIGHT
TZOFFSETFROM:+0100
TZOFFSETTO:+0200
TZNAME:CEST
DTSTART:20240331T010000
END:DAYLIGHT
BEGIN:STANDARD
TZOFFSETFROM:+0200
TZOFFSETTO:+0100
TZNAME:CET
DTSTART:20241027T010000
END:STANDARD
END:VTIMEZONE
BEGIN:VEVENT
DTSTART;TZID=Europe/Berlin:20241204T120000
DTEND;TZID=Europe/Berlin:20241204T133000
DTSTAMP:20260421T184711
CREATED:20241002T085731Z
LAST-MODIFIED:20241002T085734Z
UID:10007416-1733313600-1733319000@www.khg-in-bayreuth.de
SUMMARY:Mittagspause für Leib und Seele // Lunch break for body and soul
DESCRIPTION:Jeden Mittwoch feiern wir die Mitte der Woche mit einer besonderen Mittagspause: Wir treffen uns um 12.00 Uhr in der KHG-Kapelle zum Mittagsgebet. Anschließend löffeln wir gemeinsam vegetarische Suppe.\nWer Lust hat\, beim Kochen der Suppe zu helfen\, darf gerne vorher (ab ca. 11.00 Uhr) in der KHG-Küche vorbeikommen. Auch eigene Rezepte sind gerne gesehen!\n–\nEvery Wednesday we celebrate the middle of the week with a special lunch break: we meet at 12.00 in the KHG chapel for midday prayer. Afterwards we spoon vegetarian soup together.\nAnyone who would like to help make the soup is welcome to come to the KHG kitchen beforehand (from about 11.00 a.m.). Your own recipes are also welcome!
URL:https://www.khg-in-bayreuth.de/event/mittagspause-fuer-leib-und-seele-lunch-break-for-body-and-soul-14/
END:VEVENT
BEGIN:VEVENT
DTSTART;TZID=Europe/Berlin:20241204T180000
DTEND;TZID=Europe/Berlin:20241204T190000
DTSTAMP:20260421T184711
CREATED:20241023T123638Z
LAST-MODIFIED:20241023T123645Z
UID:10007590-1733335200-1733338800@www.khg-in-bayreuth.de
SUMMARY:Yoga
DESCRIPTION:Sportliches Yoga mit Mykhailo. Herzliche Einladung!\n–\nSporty yoga with Mykhailo. Cordial invitation!
URL:https://www.khg-in-bayreuth.de/event/yoga-15/2024-12-04/
LOCATION:KHG Bayreuth\, Emil-Warburg-Weg 17\, KHG Bayreuth\, 95447\, Deutschland
END:VEVENT
BEGIN:VEVENT
DTSTART;TZID=Europe/Berlin:20241204T181500
DTEND;TZID=Europe/Berlin:20241204T194500
DTSTAMP:20260421T184711
CREATED:20241023T121457Z
LAST-MODIFIED:20241113T124640Z
UID:10007529-1733336100-1733341500@www.khg-in-bayreuth.de
SUMMARY:BibelBar // BibleBAR
DESCRIPTION:Gesprächsabend: Jeden Mittwoch treffen wir uns und reden über Gott und die Welt. Die Treffen finden im wöchentlichen Wechsel bei KHG und ESG.\n–\nDiscussion evening: Every Wednesday we meet and talk about God and the world. The meetings alternate weekly between KHG and ESG.
URL:https://www.khg-in-bayreuth.de/event/bibelbar-biblebar/2024-12-04/
LOCATION:KHG Bayreuth\, Emil-Warburg-Weg 17\, KHG Bayreuth\, 95447\, Deutschland
END:VEVENT
BEGIN:VEVENT
DTSTART;TZID=Europe/Berlin:20241204T194500
DTEND;TZID=Europe/Berlin:20241204T210000
DTSTAMP:20260421T184711
CREATED:20241106T091946Z
LAST-MODIFIED:20241113T124759Z
UID:10007618-1733341500-1733346000@www.khg-in-bayreuth.de
SUMMARY:Gospelchor // Gospel Choir
DESCRIPTION:Unser ökumenischer Gospelchor probt jeden Mittwoch ab 19.45 Uhr in der Albertus-Magnus-Kapelle. Wenn Du Spaß am Singen hast\, schau gerne vorbei! Keine Vorkenntnisse notwendig. \nOur ecumenical gospel choir rehearses every Wednesday from 7.45 pm in the Albertus Magnus Chapel. If you enjoy singing\, just drop in! No previous experience necessary.
URL:https://www.khg-in-bayreuth.de/event/gospelchor-gospel-choir-8/2024-12-04/
LOCATION:KHG Bayreuth\, Emil-Warburg-Weg 17\, KHG Bayreuth\, 95447\, Deutschland
END:VEVENT
END:VCALENDAR