BEGIN:VCALENDAR
VERSION:2.0
PRODID:-//KHG Bayreuth - ECPv6.15.3//NONSGML v1.0//EN
CALSCALE:GREGORIAN
METHOD:PUBLISH
X-WR-CALNAME:KHG Bayreuth
X-ORIGINAL-URL:https://www.khg-in-bayreuth.de
X-WR-CALDESC:Veranstaltungen für KHG Bayreuth
REFRESH-INTERVAL;VALUE=DURATION:PT1H
X-Robots-Tag:noindex
X-PUBLISHED-TTL:PT1H
BEGIN:VTIMEZONE
TZID:Europe/Berlin
BEGIN:DAYLIGHT
TZOFFSETFROM:+0100
TZOFFSETTO:+0200
TZNAME:CEST
DTSTART:20240331T010000
END:DAYLIGHT
BEGIN:STANDARD
TZOFFSETFROM:+0200
TZOFFSETTO:+0100
TZNAME:CET
DTSTART:20241027T010000
END:STANDARD
END:VTIMEZONE
BEGIN:VEVENT
DTSTART;TZID=Europe/Berlin:20241205T190000
DTEND;TZID=Europe/Berlin:20241205T203000
DTSTAMP:20260421T184756
CREATED:20241023T123857Z
LAST-MODIFIED:20241023T124603Z
UID:10007593-1733425200-1733430600@www.khg-in-bayreuth.de
SUMMARY:Adventsandacht mit dem Swahili Chor im ÖBG // Advent devotion with the Swahili choir at the ÖBG
DESCRIPTION:Wir feiern eine besondere Adventsandacht im Ausstellungsraum des Ökologisch-Botanischen Gartens der Uni Bayreuth\, begleitet von afrikanischen Liedern unseres”Swahili Chro Bayreuth”. Im Anschluss gibt es Punsch und Glühwein.\n–\nWe celebrate a special Advent devotion in the exhibition room of the Ecological-Botanical Garden of the University of Bayreuth\, accompanied by African songs of our “Swahili Chro Bayreuth”. Afterwards there will be punch and gingerbread.
URL:https://www.khg-in-bayreuth.de/event/adventsandacht-mit-dem-swahili-chor-im-oebg-advent-devotion-with-the-swahili-choir-at-the-oebg/
LOCATION:KHG Bayreuth\, Emil-Warburg-Weg 17\, KHG Bayreuth\, 95447\, Deutschland
END:VEVENT
BEGIN:VEVENT
DTSTART;TZID=Europe/Berlin:20241205T193000
DTEND;TZID=Europe/Berlin:20241205T210000
DTSTAMP:20260421T184756
CREATED:20241023T121250Z
LAST-MODIFIED:20241023T121258Z
UID:10007520-1733427000-1733432400@www.khg-in-bayreuth.de
SUMMARY:Swahili Chor Bayreuth // Suahili Choir
DESCRIPTION:Jeden Donnerstag probt unser Swahili-Chor afrikanische Lieder in der KHG. Neue Sänger*innen sind jederzeit herzlich willkommen!\n–\nEvery Thursday\, our Suahili choir rehearses African songs in the KHG. New singers are always welcome!
URL:https://www.khg-in-bayreuth.de/event/swahili-chor-bayreuth-suahili-choir-5/2024-12-05/
LOCATION:KHG Bayreuth\, Emil-Warburg-Weg 17\, KHG Bayreuth\, 95447\, Deutschland
END:VEVENT
END:VCALENDAR