BEGIN:VCALENDAR
VERSION:2.0
PRODID:-//KHG Bayreuth - ECPv6.15.3//NONSGML v1.0//EN
CALSCALE:GREGORIAN
METHOD:PUBLISH
X-WR-CALNAME:KHG Bayreuth
X-ORIGINAL-URL:https://www.khg-in-bayreuth.de
X-WR-CALDESC:Veranstaltungen für KHG Bayreuth
REFRESH-INTERVAL;VALUE=DURATION:PT1H
X-Robots-Tag:noindex
X-PUBLISHED-TTL:PT1H
BEGIN:VTIMEZONE
TZID:Europe/Berlin
BEGIN:DAYLIGHT
TZOFFSETFROM:+0100
TZOFFSETTO:+0200
TZNAME:CEST
DTSTART:20240331T010000
END:DAYLIGHT
BEGIN:STANDARD
TZOFFSETFROM:+0200
TZOFFSETTO:+0100
TZNAME:CET
DTSTART:20241027T010000
END:STANDARD
END:VTIMEZONE
BEGIN:VEVENT
DTSTART;TZID=Europe/Berlin:20241220T110000
DTEND;TZID=Europe/Berlin:20241220T120000
DTSTAMP:20260421T184711
CREATED:20241002T081016Z
LAST-MODIFIED:20241023T130147Z
UID:10007408-1734692400-1734696000@www.khg-in-bayreuth.de
SUMMARY:Walk & Talk
DESCRIPTION:Alte Spinnerei: Zwangloser Spaziergang mit Reden über Gott und die Welt\, anschl. gemeinsames Mittagessen\n–\nAlte Spinnerei: informal walk with talks about God and the world\, followed by lunch together
URL:https://www.khg-in-bayreuth.de/event/walk-talk-3/
LOCATION:Campus Kulmbach\, Fritz-Hornschuch-Str. 13\, 95326 Kulmbach\, Bayern
END:VEVENT
BEGIN:VEVENT
DTSTART;TZID=Europe/Berlin:20241220T200000
DTEND;TZID=Europe/Berlin:20241220T220000
DTSTAMP:20260421T184711
CREATED:20241023T130416Z
LAST-MODIFIED:20241023T130420Z
UID:10007600-1734724800-1734732000@www.khg-in-bayreuth.de
SUMMARY:Deutsch-chinesischer Stammtisch // German-Chinese regulars' table
DESCRIPTION:Thema: wird noch bekanntgegeben\n–\nTopic: to be announced
URL:https://www.khg-in-bayreuth.de/event/deutsch-chinesischer-stammtisch-german-chinese-regulars-table-12/
LOCATION:KHG Bayreuth\, Emil-Warburg-Weg 17\, KHG Bayreuth\, 95447\, Deutschland
END:VEVENT
END:VCALENDAR