BEGIN:VCALENDAR
VERSION:2.0
PRODID:-//KHG Bayreuth - ECPv6.15.3//NONSGML v1.0//EN
CALSCALE:GREGORIAN
METHOD:PUBLISH
X-ORIGINAL-URL:https://www.khg-in-bayreuth.de
X-WR-CALDESC:Veranstaltungen für KHG Bayreuth
REFRESH-INTERVAL;VALUE=DURATION:PT1H
X-Robots-Tag:noindex
X-PUBLISHED-TTL:PT1H
BEGIN:VTIMEZONE
TZID:Europe/Berlin
BEGIN:DAYLIGHT
TZOFFSETFROM:+0100
TZOFFSETTO:+0200
TZNAME:CEST
DTSTART:20250330T010000
END:DAYLIGHT
BEGIN:STANDARD
TZOFFSETFROM:+0200
TZOFFSETTO:+0100
TZNAME:CET
DTSTART:20251026T010000
END:STANDARD
END:VTIMEZONE
BEGIN:VEVENT
DTSTART;TZID=Europe/Berlin:20250105T080000
DTEND;TZID=Europe/Berlin:20250105T170000
DTSTAMP:20260421T184202
CREATED:20241023T120321Z
LAST-MODIFIED:20241023T120328Z
UID:10007504-1736064000-1736096400@www.khg-in-bayreuth.de
SUMMARY:Weihnachtspause // Christmas break
DESCRIPTION:Die KHG ist vom 23.12.2024 bis 06.01.2025 geschlossen.\n–\nThe KHG is closed from 23.12.2024 to 06.01.2025.
URL:https://www.khg-in-bayreuth.de/event/weihnachtspause-christmas-break-4/2025-01-05/
LOCATION:KHG Bayreuth\, Emil-Warburg-Weg 17\, KHG Bayreuth\, 95447\, Deutschland
END:VEVENT
END:VCALENDAR