BEGIN:VCALENDAR
VERSION:2.0
PRODID:-//KHG Bayreuth - ECPv6.15.3//NONSGML v1.0//EN
CALSCALE:GREGORIAN
METHOD:PUBLISH
X-ORIGINAL-URL:https://www.khg-in-bayreuth.de
X-WR-CALDESC:Veranstaltungen für KHG Bayreuth
REFRESH-INTERVAL;VALUE=DURATION:PT1H
X-Robots-Tag:noindex
X-PUBLISHED-TTL:PT1H
BEGIN:VTIMEZONE
TZID:Europe/Berlin
BEGIN:DAYLIGHT
TZOFFSETFROM:+0100
TZOFFSETTO:+0200
TZNAME:CEST
DTSTART:20250330T010000
END:DAYLIGHT
BEGIN:STANDARD
TZOFFSETFROM:+0200
TZOFFSETTO:+0100
TZNAME:CET
DTSTART:20251026T010000
END:STANDARD
END:VTIMEZONE
BEGIN:VEVENT
DTSTART;TZID=Europe/Berlin:20250210T180000
DTEND;TZID=Europe/Berlin:20250210T200000
DTSTAMP:20260423T124404
CREATED:20241113T125617Z
LAST-MODIFIED:20241113T125738Z
UID:10007695-1739210400-1739217600@www.khg-in-bayreuth.de
SUMMARY:Theatergruppe “Die Schwarzen Schafe” // Theatre group “The Black Sheep”
DESCRIPTION:Die legendären “Schwarzen Schafe” treffen sich jeden Montag in der KHG. Neueinsteiger*innen sind besonders am Anfang des Semesters herzlich willkommen!\nDenn: Zu Beginn des Semesters suchen alle gemeinsam ein Stück aus\, danach wird regelmäßig geprobt. Am Semesterende wird die KHG dann zur Bühne für die Aufführung des Stücks.\n–\nOur legendary “Black Sheep” meet every Monday in the KHG. Newcomers are especially welcome at the beginning of the semester!\nBecause: At the beginning of the semester\, everyone chooses a play together and then
URL:https://www.khg-in-bayreuth.de/event/theatergruppe-die-schwarzen-schafe-theatre-group-the-black-sheep-6/2025-02-10/
LOCATION:KHG Bayreuth\, Emil-Warburg-Weg 17\, KHG Bayreuth\, 95447\, Deutschland
END:VEVENT
BEGIN:VEVENT
DTSTART;TZID=Europe/Berlin:20250210T200000
DTEND;TZID=Europe/Berlin:20250210T220000
DTSTAMP:20260423T124404
CREATED:20250205T090043Z
LAST-MODIFIED:20250205T090051Z
UID:10007720-1739217600-1739224800@www.khg-in-bayreuth.de
SUMMARY:2. Aufführung Theatergruppe Schwarze Schafe e.V.: Hexenjagd - Ein Drama nach Arthur Miller // 2nd performance by theatre group Schwarze Schafe e.V.: Witch Hunt - A drama based on Arthur Miller
DESCRIPTION:Salem\, 1692\nDie Tochter des machtgierigen Pastors ist schwer erkrankt\, und ihr rätselhaftes Leiden gibt schnell Anlass zu Gerüchten über Hexerei. In der tief religiösen Gemeinschaft verbreitet sich Angst wie ein Lauffeuer. Pastor Parris\, getrieben von der Sorge um seinen Ruf\, holt den Experten für dämonische Künste\, Reverend Hale\, nach Salem. \nAls einige Mädchen\, angeführt von der charismatischen Abigail Williams\, beginnen\, wahllos Menschen der Hexerei zu beschuldigen\, verwandelt sich die kleine Stadt in einen Schauplatz von Misstrauen\, Verrat und Wahn. Während unschuldige Menschen vor Gericht gezerrt werden\, kämpfen der Bauer John Proctor und seine Frau Elizabeth darum\, die Wahrheit ans Licht zu bringen. \nDie Lage eskaliert\, als persönliche Konflikte\, Machtspiele und religiöser Fanatismus die Gemeinschaft zu zerreißen drohen – und die Wahrheit zunehmend im Schatten der Angst verschwindet.\n—\nSalem\, 1692\nThe daughter of the power-hungry pastor has fallen seriously ill\, and her mysterious ailment quickly gives rise to rumours of witchcraft. Fear spreads like wildfire in the deeply religious community. Pastor Parris\, driven by concern for his reputation\, brings the expert in demonic arts\, Reverend Hale\, to Salem. \nWhen some girls\, led by the charismatic Abigail Williams\, begin to indiscriminately accuse people of witchcraft\, the small town turns into a scene of suspicion\, betrayal and madness. While innocent people are dragged to court\, farmer John Proctor and his wife Elizabeth fight to bring the truth to light. \nThe situation escalates as personal conflicts\, power games and religious fanaticism threaten to tear the community apart – and the truth increasingly disappears in the shadows of fear.
URL:https://www.khg-in-bayreuth.de/event/2-auffuehrung-theatergruppe-schwarze-schafe-e-v-hexenjagd-ein-drama-nach-arthur-miller-2nd-performance-by-theatre-group-schwarze-schafe-e-v-witch-hunt-a-drama-based-on-arthur-miller/
LOCATION:KHG Bayreuth\, Emil-Warburg-Weg 17\, KHG Bayreuth\, 95447\, Deutschland
END:VEVENT
END:VCALENDAR